{"text_format":"1","workbook":"xlsx","n_sheets":3,"sheets":["Geral","ResultadosGeral corrida fasiada","FolhaRegistoNatação"],"not_rendered":{"charts":0,"images":2,"macros":1,"external_links":0,"defined_names":3,"comments":2,"pivot_tables":0},"unopened":[],"bounds":{"document_bytes":16777216,"sheet_cells":100000,"rows_first":2000,"rows_last":500,"rows_between":2000,"halvings":0,"cell_chars":16384,"cell_head_chars":4096},"cells_cut":0,"cells_raw":0,"read":"whole","date_system":"1900"}

{"sheet":"Geral","index":0,"n_rows":211,"n_cols":10,"rows_kept":211,"cut":false,"hidden":false,"merged":[[199,3,199,5]]}
[]
[]
[]
[]
[null,null,null,null,"I AQUATLO DO LXTRIATHLON - CIRCUITO JOVEM CENTRO LITORAL - 1ª ETAPA"]
[null,null,null,null,"11 DE FEVEREIRO DE 2018"]
[]
[null,null,null,null,"BENJAMINS MASCULINOS"]
["Pos","Dorsal ","Licença","Escalão","Nome","Género","Clube","Tempo Natação","Tempo Corrida","Tempo Final"]
[1,836,103904,"BEN","Martim da Silva Chéu Rodrigues","M","Associação Naval Amorense/ Não da Região","00:00:49","00:01:15","00:02:04"]
[2,852,104632,"BEN","Luís Viriato Gonzaga dos Anjos","M","Sport Lisboa e Benfica","00:00:52.560","00:01:21.340","00:02:13.900"]
[3,5569,0,"BEN","António Picoto","M","CSJB/ Não Federado","00:00:50.170","00:01:24.240","00:02:14.410"]
[4,5568,0,"BEN","Francisco Almeida","M","CSJB/ Não Federado","00:00:50.680","00:01:23.900","00:02:14.580"]
[5,6046,0,"BEN","Rodrigo Paulos Pereira Barreto","M","Não Federado","00:00:51","00:01:25","00:02:16"]
[6,5551,0,"BEN","Duarte Magalhães Filipe","M","Clube Futebol “Os Belenenses”/Não federado","00:00:57","00:01:20","00:02:17"]
[7,5685,0,"BEN","Santiago Pereira Gaspar","M","Não Federado","00:01:07","00:01:15","00:02:22"]
[8,16,103866,"BEN","Afonso Magalhães Silva","M","Lxtriathlon","00:00:52","00:01:32","00:02:24"]
[9,325,103405,"BEN","João António Queixada Prudêncio","M","Sport Lisboa e Benfica","00:01:05","00:01:21","00:02:26"]
[10,134,104164,"BEN","Edson Tavares","M","Clube de Natação da Amadora","00:01:07","00:01:20","00:02:27"]
[11,46,103164,"BEN","Denis Rodrigues Fragoso","M","Associação Naval Amorense/ Não federado","00:01:06","00:01:35","00:02:41"]
[12,5504,105088,"BEN","Francisco Barreiro","M","Clube de Natação da Amadora","00:01:08","00:01:36","00:02:44"]
[13,6073,0,"BEN","Francisco Duarte da Silva Leão","M","Não Federado","00:01:05","00:01:41","00:02:46"]
[14,132,104161,"BEN","Rodrigo Paulos","M","Clube de Natação da Amadora","00:01:06","00:01:41","00:02:47"]
[15,5684,0,"BEN","Gonçalo Santos Chitas","M","Não Federado","00:01:10","00:01:39","00:02:49"]
[16,136,104166,"BEN","Samuel Parisot","M","Clube de Natação da Amadora","00:01:11","00:01:54","00:03:05"]
[17,246,104198,"BEN","Tiago Catarino Craveiro Ferreira","M","Sport Lisboa e Benfica","00:01:17","00:01:51","00:03:08"]
["",null,"","","","","","","",""]
[]
[null,null,null,null,"BENJAMINS FEMININOS"]
["Pos","Dorsal ","Licença","Escalão","Nome","Género","Clube","Tempo Natação","Tempo Corrida","Tempo Final"]
[1,109,103257,"BEN","Benedita Vaz","F","SFRAA","00:00:43","00:01:25","00:02:08"]
[2,754,103758,"BEN","Laura Maria Nunes Aranha","F","Sport Lisboa e Benfica/ Não federado","00:00:53","00:01:20","00:02:13"]
[3,936,104691,"BEN","Maria Inês Duarte Nogueira","F","Sport Lisboa e Benfica","00:00:57","00:01:25","00:02:22"]
[4,6133,0,"BEN","Isabel Marques","F","Peniche Amigos Clube - Não Federado","00:00:55","00:01:29","00:02:24"]
[5,561,104447,"BEN","Catarina Silva","F","SFRAA","00:01:07","00:01:33","00:02:40"]
[6,940,104692,"BEN","Gabriela Marques dos Santos","F","Sport Lisboa e Benfica/ Não federado","00:01:09","00:01:32","00:02:41"]
[7,251,104200,"BEN","Maria Rita Queixada Prudêncio","F","Sport Lisboa e Benfica","00:01:15","00:01:29","00:02:44"]
[8,931,104690,"BEN","Beatriz Marques Martins","F","Sport Lisboa e Benfica","00:01:31","00:01:36","00:03:07"]
[9,6135,104488,"BEN","Vânia Pereira Crispim","F","Sport Lisboa e Benfica","00:01:38","00:01:41","00:03:19"]
[]
[]
[null,null,null,null,"INFANTIS MASCULINOS"]
["Pos","Dorsal ","Licença","Escalão","Nome","Género","Clube","Tempo Natação","Tempo Corrida","Tempo Final"]
[1,807,102957,"INF","Gonçalo  Magalhães Guimarães","M","Lxtriathlon","00:01:20","00:02:42","00:04:02"]
[2,159,104171,"INF","Tiago Carvalho dos Santos","M","CNCVG","00:01:25","00:02:48","00:04:13"]
[3,384,103085,"INF","Martim Rodrigo Martins dos Santos","M","Sport Lisboa e Benfica/ Não federado","00:01:37","00:02:39","00:04:16"]
[4,853,103084,"INF","Miguel Catarino Craveiro Ferreira","M","Sport Lisboa e Benfica","00:01:26","00:02:52","00:04:18"]
[5,898,103977,"INF","Afonso Almeida","M","OutSystems Olímpico de Oeiras","00:01:23","00:03:01","00:04:24"]
[6,520,103566,"INF","Gabriel Viana","M","GDR Manique de Cima/ Não Federado","00:01:31","00:02:55","00:04:26"]
[7,786,103095,"INF","Gustavo Coelho","M","Clube de Natação da Amadora","00:01:39","00:02:56","00:04:35.870"]
[8,523,102827,"INF","David Rafael Teló","M","Sport Lisboa e Benfica","00:01:35","00:03:00","04:36.02"]
[9,3,104104,"INF","Afonso Luís","M","Peniche Amigos Clube - Não Federado","00:01:32","00:03:03","00:04:36.210"]
[10,992,102470,"INF","David Vicente Aleixo","M","Associação Naval Amorense/ Não da Região","00:01:38","00:02:57","00:04:36.280"]
[11,304,103383,"INF","Pedro Vieira Neves","M","SUColarense/ Não federado","00:01:43","00:02:53","04:36.74"]
[12,283,103369,"INF","João Vaz","M","Clube de Natação da Amadora","00:01:41","00:02:56","00:04:37"]
[13,161,104172,"INF","Pedro Carvalho dos Santos","M","CNCVG","00:01:39","00:02:59","00:04:38"]
[14,14,104107,"INF","João Pedro Venâncio","M","Peniche Amigos Clube","00:01:45","00:02:54","00:04:39"]
[15,6123,104990,"INF","Francisco Pinto","M","OutSystems Olímpico de Oeiras","00:01:48","00:02:55","00:04:43"]
[16,6139,105077,"INF","David Boléo","M","Sporting Clube de Portugal","00:01:43","00:03:02","00:04:45"]
[17,6132,105018,"INF","Salvador Cardoso","M","Peniche Amigos Clube - Não Federado","00:02:11","00:02:44","00:04:55"]
[18,625,104490,"INF","Vicente Graça","M","Clube de Natação da Amadora","00:01:50","00:03:06","00:04:56"]
[19,991,102469,"INF","Tomás Saragoça de Sousa","M","Associação Naval Amorense/ Não da Região","00:01:47","00:03:11","00:04:58"]
[20,5512,105121,"INF","Rodrigo Feiteirona","M","Clube de Natação da Amadora","00:01:44","00:03:20","00:05:04"]
[21,6134,105038,"INF","Mauro Veiga","M","SFRAA","00:01:51","00:03:18","00:05:09"]
[22,6115,0,"INF","David Nunes","M","Não Federado","00:02:25","00:03:05","00:05:30"]
[23,6130,104988,"INF","Gustavo Pinto","M","Peniche Amigos Clube - Não Federado","00:02:11","00:03:22","00:05:33"]
[24,5575,0,"INF","Pedro Oliveira","M","CSJB/ Não Federado","00:02:21","00:03:22","00:05:43"]
[25,941,0,"INF","Henrique Bernardo Moço da Silva","M","Sport Lisboa e Benfica","00:02:28","00:03:16","00:05:44"]
[26,968,0,"INF","Afonso Castelo Ferreira","M","Sport Lisboa e Benfica","00:02:58","00:03:21","00:06:19"]
[27,20,104108,"INF","Martim Bandeira","M","Peniche Amigos Clube - Não Federado","00:03:36","00:03:07","00:06:43"]
[]
[]
[null,null,null,null,"INFANTIS FEMININOS"]
["Pos","Dorsal ","Licença","Escalão","Nome","Género","Clube","Tempo Natação","Tempo Corrida","Tempo Final"]
[1,6156,0,"INF","Anastácia Tshesnovska","F","Sporting Clube de Portugal/ Não Federado","00:01:22","00:02:47","00:04:09"]
[2,609,104484,"INF","Catarina Felício dos Santos","F","Sport Lisboa e Benfica","00:01:26","00:02:45","00:04:11"]
[3,799,102291,"INF","Letícia Rodrigues de Magalhães","F","Sport Lisboa e Benfica","00:01:20","00:02:52","00:04:12"]
[4,6155,0,"INF","LETICIA BEATRIZ AUST LEAL ","F","Sporting Clube de Portugal/ Não Federado","00:01:23","00:02:55","00:04:18"]
[5,6141,104995,"INF","Daniela Santos","F","Sporting Clube de Portugal","00:01:29","00:02:56.570","00:04:25.570"]
[6,6220,103076,"INF","Diana Filipa Kolobaric Marcelino","F","Sport Lisboa e Benfica","00:01:45","00:02:48","00:04:33.800"]
[7,573,102079,"INF","Rita Rivotti Mendes","F","SUColarense/ Não federado","00:01:40","00:02:53","00:04:33.910"]
[8,6218,103075,"INF","Ana Sofia Kolobaric Marcelino","F","Sport Lisboa e Benfica","00:01:47","00:02:46","00:04:33.940"]
[9,166,103867,"INF","Raquel Magalhães Sanches","F","Lxtriathlon","00:01:35","00:03:01","00:04:36"]
[10,11,104106,"INF","Leonor Marques","F","Peniche Amigos Clube","00:01:29","00:03:12","00:04:41"]
[10,5577,0,"INF","Mafalda Dias","F","CSJB/ Não Federado","00:01:37","00:03:04","00:04:41"]
[12,634,102025,"INF","Joana Regueira Alves","F","Lxtriathlon","00:01:29","00:03:21","00:04:50"]
[13,6142,104881,"INF","Francisca Malfeito","F","Sporting Clube de Portugal","00:01:28","00:03:23","00:04:51"]
[14,722,104558,"INF","Carolina Canhoto","F","Clube de Natação da Amadora","00:01:44","00:03:09","00:04:53"]
[14,265,103357,"INF","Inês Simões de Oliveira Vicente Ramos ","F","Não federado","00:01:45","00:03:08","00:04:53"]
[16,620,104486,"INF","Luna Pereira Crispim","F","Sport Lisboa e Benfica","00:01:52","00:03:03","00:04:55"]
[17,6140,104883,"INF","Leonor Rocha","F","Sporting Clube de Portugal","00:01:40","00:03:20","00:05:00"]
[18,460,104344,"INF","Margarida Simões","F","GDR Manique de Cima/ Não Federado","00:01:45","00:03:16","00:05:01"]
[19,809,102478,"INF","Leonor Domingos Pedro","F","CNCVG","00:02:01","00:03:06","00:05:07.540"]
[20,5681,104930,"INF","Matilde Rocha Sequeira","F","Lxtriathlon","00:01:45","00:03:22","00:05:07.160"]
[21,983,104072,"INF","Mariana Pinto","F","GDR Manique de Cima/ Não Federado","00:01:52","00:03:25","00:05:17"]
[22,5574,0,"INF","Carolina Gonçalves","F","CSJB/ Não Federado","00:02:02","00:03:26","00:05:28"]
[23,5676,105132,"INF","Camila Dias","F","GDR Manique de Cima","00:02:32","00:03:24","00:05:56"]
[]
[null,null,null,null,"INICIADOS MASCULINOS"]
["Pos","Dorsal ","Licença","Escalão","Nome","Género","Clube","Tempo Natação","Tempo Corrida","Tempo Final"]
[1,630,100784,"INI","Tomás Alexandre Queixada Prudêncio","M","Sport Lisboa e Benfica","00:01:56","00:04:02","00:05:58"]
[2,6160,0,"INI","Vasco Antela Alves da Silva","M","Sporting Clube de Portugal/ Não Federado","00:01:54","00:04:11","00:06:05"]
[3,6205,104571,"INI","João Rodrigues","M","Clube de Natação da Amadora","00:01:56","00:04:14","00:06:10"]
[4,469,101251,"INI","Afonso Costa","M","Sporting Clube de Portugal","00:01:55","00:04:26","00:06:21"]
[5,783,102583,"INI","Diogo Gomes","M","SUColarense/ Não federado","00:02:26","00:04:01","00:06:27"]
[6,6204,104567,"INI","Gonçalo Pereira","M","Clube de Natação da Amadora/ Não federado","00:02:07","00:04:22","00:06:29"]
[7,903,100479,"INI","Rafael Santos","M","SFRAA","00:02:15","00:04:15","00:06:30"]
[8,655,103096,"INI","André Canhoto","M","Clube de Natação da Amadora","00:02:21","00:04:10","00:06:31.090"]
[8,329,102031,"INI","Rodrigo  de Brito Valle Leite","M","Sporting Clube de Portugal","00:02:04","00:04:27","00:06:31.090"]
[10,874,102511,"INI","Arthur Torres","M","OutSystems Olímpico de Oeiras","00:02:11","00:04:26","00:06:37.640"]
[11,748,103002,"INI","Rafael Alexandre Gonçalves Madeira","M","Sport Lisboa e Benfica","00:02:19","00:04:19","00:06:37.770"]
[12,438,103803,"INI","Afonso Catarino Craveiro Ferreira","M","Sport Lisboa e Benfica","00:02:17","00:04:21","00:06:38"]
[13,112,103260,"INI","Ricardo Costa","M","SFRAA","00:02:04","00:04:36","00:06:40"]
[14,948,0,"INI","Tiago Rodrigues Homem","M","Sport Lisboa e Benfica","00:02:29","00:04:14","00:06:43"]
[15,6158,0,"INI","Ricardo Freitas Neto","M","Sporting Clube de Portugal/ Não Federado","00:02:00","00:04:49","00:06:49"]
[16,815,102296,"INI","Tiago Miguel Rodrigues Casinha","M","CNCVG","00:02:31","00:04:21","00:06:52"]
[17,5674,0,"INI","Pedro Loureiro","M","CSJB/ Não Federado","00:02:07","00:04:46","00:06:53"]
[18,410,102767,"INI","Cristovão Domingos","M","Clube de Natação da Amadora","00:02:15","00:04:39","00:06:54"]
[19,5597,0,"INI","Gonçalo Silvestre","M","CSJB/ Não Federado","00:02:03","00:04:58","00:07:01"]
[19,716,102969,"INI","Bernardo Nunes Mendes","M","Sport Lisboa e Benfica","00:02:29","00:04:32","00:07:01"]
[21,6153,0,"INI","Miguel Mera Herrero","M","Sporting Clube de Portugal/ Não Federado","00:02:14","00:04:49","00:07:03"]
[22,612,101180,"INI","Pedro Alexandre Vieira Coelho","M","CNCVG","00:02:20","00:04:44","00:07:04"]
[23,244,101311,"INI","Francisco Miguel Pires Mendes Jorge","M","Associação Naval Amorense/ Não da Região","00:02:33","00:04:32","00:07:05"]
[24,442,103092,"INI","David dos Santos","M","Clube de Natação da Amadora","00:02:26","00:04:44","00:07:10"]
[25,5596,0,"INI","Diogo Cunha","M","CSJB/ Não Federado","00:02:08","00:05:05","00:07:13"]
[26,315,103399,"INI","Miguel Gonçalves","M","OutSystems Olímpico de Oeiras/ Não Federado","00:02:16","00:05:01","00:07:17"]
[26,5578,0,"INI","Duarte Almeida","M","CSJB/ Não Federado","00:02:26","00:04:51","00:07:17"]
[28,226,104193,"INI","Guilherme Dinis","M","Sporting Clube de Portugal","00:02:36","00:04:45","00:07:21"]
[29,5594,0,"INI","Guilherme Tavares","M","CSJB/ Não Federado","00:02:19","00:05:14","00:07:33"]
[30,6202,105032,"INI","Afonso Ferreira","M","Sporting Clube de Portugal","00:03:20","00:04:18","00:07:38"]
[31,6147,105033,"INI","José Ferreira","M","Sporting Clube de Portugal","00:03:18","00:04:21","00:07:39"]
[32,5582,0,"INI","José Dias","M","CSJB/ Não Federado","00:02:25","00:05:16","00:07:41"]
[32,180,104179,"INI","Filipe Magalhães Filipe","M","Clube Futebol “Os Belenenses”/Não federado","00:02:54","00:04:47","00:07:41"]
[34,707,103083,"INI","André Rodrigues Pereira da Costa","M","Sport Lisboa e Benfica","00:03:03","00:04:39","00:07:42"]
[35,593,103097,"INI","Tomás Pita","M","Clube de Natação da Amadora","00:02:13","00:05:33","00:07:46"]
[36,876,102512,"INI","Vasco Silva","M","OutSystems Olímpico de Oeiras/ Não Federado","00:02:26","00:05:29","00:07:55"]
[37,733,102052,"INI","Afonso Jacinto Vaz","M","SUColarense","00:02:28","00:05:34","00:08:02"]
[38,6117,0,"INI","Rodrigo Nunes","M","Não Federado","00:03:19","00:04:58","00:08:17"]
[39,927,103098,"INI","João Figueiredo","M","Clube de Natação da Amadora","00:02:40","00:05:40","00:08:20"]
[]
[]
[null,null,null,null,"INICIADOS FEMININOS"]
["Pos","Dorsal ","Licença","Escalão","Nome","Género","Clube","Tempo Natação","Tempo Corrida","Tempo Final"]
[1,893,103073,"INI","Cassilda Maria Duarte Carvalho","F","Sport Lisboa e Benfica","00:01:57","00:04:09","00:06:06"]
[2,967,103090,"INI","Constança Eugénia Martins Santos","F","Sport Lisboa e Benfica/ Não federado","00:02:11","00:04:14","00:06:25"]
[3,317,102027,"INI","Luna Alexandra Fernandes Neves","F","Sporting Clube de Portugal","00:02:04","00:04:24","00:06:28"]
[4,6125,105003,"INI","Mariana Prudêncio","F","OutSystems Olímpico de Oeiras/ Não Federado","00:02:06","00:04:23","00:06:29"]
[5,6129,105019,"INI","Joana Rosa Ferreira","F","Peniche Amigos Clube","00:01:54","00:04:47","00:06:41"]
[6,6148,104882,"INI","Margarida Dias Coutinho","F","Sporting Clube de Portugal","00:02:05","00:04:39","00:06:44"]
[7,753,103027,"INI","Joana Maria Martins Salgado","F","Sport Lisboa e Benfica","00:02:17","00:04:29","00:06:46"]
[8,466,102018,"INI","Bruna Banha","F","Sporting Clube de Portugal","00:02:08","00:04:51","00:06:59"]
[9,5531,105086,"INI","Bruna Rocha","F","Clube de Natação da Amadora","00:02:09","00:04:52","00:07:01"]
[10,197,103325,"INI","Maria Ines Alves Rodrigues","F","Lxtriathlon","00:02:20","00:05:01","00:07:21"]
[11,219,104190,"INI","Rafaela Silva","F","SFRAA","00:02:20","00:05:03","00:07:23"]
[12,187,102059,"INI","Carolina Filipa Monteiro Palma","F","SUColarense","00:02:31","00:04:56","00:07:27"]
[13,142,100844,"INI","Sara Pereira","F","OutSystems Olímpico de Oeiras","00:02:26","00:05:02","00:07:28"]
[14,444,104336,"INI","Carolina Silva","F","GDR Manique de Cima/ Não Federado","00:02:32","00:05:00","00:07:32"]
[15,5500,104908,"INI","Monica Portugal","F","Associação Naval Amorense/ Não da Região","00:03:01","00:04:33","00:07:34"]
[16,5528,105085,"INI","Mariana Nave","F","Clube de Natação da Amadora","00:02:24","00:05:23","00:07:47"]
[17,6144,105031,"INI","Carolina Oliveira","F","Sporting Clube de Portugal","00:03:12","00:04:50","00:08:02"]
[18,6150,104884,"INI","Sofia Rocha","F","Sporting Clube de Portugal","00:02:19","00:05:53","00:08:12"]
[19,6152,105034,"INI","Sara Pires dos Santos","F","Sporting Clube de Portugal","00:02:38","00:06:01","00:08:39"]
[20,5583,0,"INI","Alice Geada ","F","CSJB/ Não Federado","00:02:50","00:06:12","00:09:02"]
["",null,"","","","","","","",""]
[]
[null,null,null,null,"JUVENIS MASCULINOS"]
["Pos","Dorsal ","Licença","Escalão","Nome","Género","Clube","Tempo Natação","Tempo Corrida","Tempo Final"]
[1,769,100464,"JUV","João Martins","M","SFRAA","00:02:21","00:05:03","00:07:24"]
[2,5536,105062,"JUV","Duarte Taleigo","M","Clube de Natação da Amadora","00:02:20","00:05:19","00:07:39"]
[3,415,100762,"JUV","Francisco Manuel Silva Protasio","M","Sport Lisboa e Benfica","00:02:29","00:05:15","00:07:44"]
[4,44,103162,"JUV","João Pedro Martins Alves","M","Associação Naval Amorense/ Não da Região","00:02:39","00:05:17","00:07:56"]
[5,196,102619,"JUV","Vasco Rafael Teló","M","Sport Lisboa e Benfica","00:02:46","00:05:16","00:08:02"]
[6,6214,103683,"JUV","Marcelo António Zagallo Félix Soares Alves","M","CNCVG","00:02:31","00:05:32","00:08:03"]
[7,5535,105089,"JUV","Vasco Alonso","M","Clube de Natação da Amadora","00:02:32","00:05:38","00:08:10"]
[8,862,104634,"JUV","Filipe Silva Cavalheiro","M","Sport Lisboa e Benfica","00:02:57","00:05:26","00:08:23"]
[9,267,101162,"JUV","Gonçalo Miguel Vieira Coelho","M","CNCVG","00:02:45","00:05:51","00:08:36"]
[10,177,100447,"JUV","António Vaz","M","SFRAA","00:02:54","00:05:47","00:08:41"]
[11,6151,105035,"JUV","Dinis Silva","M","Sporting Clube de Portugal","00:03:08","00:05:41","00:08:49"]
[12,6203,103376,"JUV","André Mota","M","Clube de Natação da Amadora","00:02:57","00:05:54","00:08:51"]
[13,6,102483,"JUV","André Esteves","M","Sporting Clube de Portugal","00:02:34","00:06:23","00:08:57"]
[14,250,104199,"JUV","Martim Maria Nogueira Simões","M","Sport Lisboa e Benfica","00:02:46","00:06:52","00:09:38"]
[15,6124,105047,"JUV","Miguel Pinto","M","OutSystems Olímpico de Oeiras","00:03:08","00:06:40","00:09:48"]
[16,5679,0,"JUV","André Borges","M","GDR Manique de Cima-Não Federado","00:03:46","00:07:50","00:11:36"]
[17,173,104176,"JUV","Tiago Ferreira","M","Clube de Natação da Amadora","00:03:55","00:08:15","00:12:10"]
[18,5678,105131,"JUV","André Dias","M","GDR Manique de Cima-Não Federado","00:03:46","00:08:33","00:12:19"]
[]
[]
[null,null,null,null,"JUVENIS FEMININOS"]
["Pos","Dorsal ","Licença","Escalão","Nome","Género","Clube","Tempo Natação","Tempo Corrida","Tempo Final"]
[1,964,103089,"JUV","Ana Francisca da Silva Moreira","F","Sport Lisboa e Benfica","00:02:55","00:06:02","00:08:57"]
[2,323,102922,"JUV","Matilde Santos","F","SFRAA","00:03:05","00:05:59","00:09:04"]
[3,5558,0,"JUV","Daniela Rodrigues Pinto","F","CNCVG/Não federado","00:03:01","00:06:07","00:09:08"]
[4,546,100760,"JUV","CATARINA FERNANDES MOUTINHO","F","Sport Lisboa e Benfica","00:02:46","00:06:24","00:09:10"]
[5,509,103104,"JUV","Marta Figueiredo","F","Clube de Natação da Amadora","00:02:57","00:06:37","00:09:34"]
[6,42,103155,"JUV","Maria Inês França Kovshar ","F","CNCVG","00:03:14","00:06:34","00:09:48"]
[7,339,103419,"JUV","Mafalda Santos Henriques","F","Lxtriathlon","00:03:25","00:07:28","00:10:53"]
[8,942,100472,"JUV","Mariana Silva","F","SFRAA","00:03:20","00:07:59","00:11:19"]
[]
[]
[null,null,null,"CLASSIFICAÇÃO POR CLUBES"]
[null,null,null,"Pos","Clube","Pontos"]
[null,null,null,1,"Sport Lisboa e Benfica",2839]
[null,null,null,2,"Clube de Natação da Amadora",2016]
[null,null,null,3,"Sporting Clube de Portugal",1543]
[null,null,null,4,"SFRAA",950]
[null,null,null,5,"CNCVG",740]
[null,null,null,6,"Lxtriathlon",662]
[null,null,null,7,"OutSystems Olímpico de Oeiras",459]
[null,null,null,8,"Peniche Amigos Clube",284]
[null,null,null,9,"SUColarense",170]
[null,null,null,10,"GDR Manique de Cima",86]

{"sheet":"ResultadosGeral corrida fasiada","index":1,"n_rows":240,"n_cols":11,"rows_kept":240,"cut":false,"hidden":true,"merged":[[226,0,226,10],[228,1,228,2],[228,3,228,4],[228,5,228,6],[228,7,228,9],[213,1,213,2],[213,5,213,6],[213,7,213,9],[213,3,213,4],[211,0,211,10],[0,0,0,10],[1,0,1,10],[3,0,3,10],[187,0,187,10],[27,0,27,10],[51,0,51,10],[88,0,88,10],[112,0,112,10],[136,0,136,10],[160,0,160,10]]}
["I AQUATLO DO LXTRIATHLON - CIRCUITO JOVEM CENTRO LITORAL - 1ª ETAPA"]
["11 DE FEVEREIRO DE 2018"]
[]
["BENJAMINS MASCULINOS"]
[]
["Pos","Dorsal ","Licença","Escalão","Nome","Género","Clube","Tempo Natação","Tempo Corrida","Tempo Final","Pontos"]
[{"$f":"IF(J7=\"\",\"\",RANK(J7,$J$7:$J$26,1))","v":""},null,{"$f":"IFERROR((VLOOKUP(B7,#REF!,2,FALSE)),\"\")","v":""},{"$f":"IFERROR((VLOOKUP(B7,#REF!,3,FALSE)),\"\")","v":""},{"$f":"IFERROR((VLOOKUP(B7,#REF!,4,FALSE)),\"\")","v":""},{"$f":"IFERROR((VLOOKUP(B7,#REF!,6,FALSE)),\"\")","v":""},{"$f":"IFERROR((VLOOKUP(B7,#REF!,8,FALSE)),\"\")","v":""},{"$f":"IFERROR((VLOOKUP(B7,#REF!,7,FALSE)),\"\")","v":""},null,{"$f":"IF(B7=\"\",\"\",H7+I7)","v":""},{"$f":"IF(B7>0,\"100\",\"\")","v":""}]
["",null,{"$f":"IFERROR((VLOOKUP(B8,#REF!,2,FALSE)),\"\")","v":""},{"$f":"IFERROR((VLOOKUP(B8,#REF!,3,FALSE)),\"\")","v":""},{"$f":"IFERROR((VLOOKUP(B8,#REF!,4,FALSE)),\"\")","v":""},{"$f":"IFERROR((VLOOKUP(B8,#REF!,6,FALSE)),\"\")","v":""},{"$f":"IFERROR((VLOOKUP(B8,#REF!,8,FALSE)),\"\")","v":""},{"$f":"IFERROR((VLOOKUP(B8,#REF!,7,FALSE)),\"\")","v":""},null,"",{"$f":"IF(B8>0,K7-1,\"\")","v":""}]
["",null,{"$f":"IFERROR((VLOOKUP(B9,#REF!,2,FALSE)),\"\")","v":""},{"$f":"IFERROR((VLOOKUP(B9,#REF!,3,FALSE)),\"\")","v":""},{"$f":"IFERROR((VLOOKUP(B9,#REF!,4,FALSE)),\"\")","v":""},{"$f":"IFERROR((VLOOKUP(B9,#REF!,6,FALSE)),\"\")","v":""},{"$f":"IFERROR((VLOOKUP(B9,#REF!,8,FALSE)),\"\")","v":""},{"$f":"IFERROR((VLOOKUP(B9,#REF!,7,FALSE)),\"\")","v":""},null,"",""]
["",null,{"$f":"IFERROR((VLOOKUP(B10,#REF!,2,FALSE)),\"\")","v":""},{"$f":"IFERROR((VLOOKUP(B10,#REF!,3,FALSE)),\"\")","v":""},{"$f":"IFERROR((VLOOKUP(B10,#REF!,4,FALSE)),\"\")","v":""},{"$f":"IFERROR((VLOOKUP(B10,#REF!,6,FALSE)),\"\")","v":""},{"$f":"IFERROR((VLOOKUP(B10,#REF!,8,FALSE)),\"\")","v":""},{"$f":"IFERROR((VLOOKUP(B10,#REF!,7,FALSE)),\"\")","v":""},null,"",""]
["",null,{"$f":"IFERROR((VLOOKUP(B11,#REF!,2,FALSE)),\"\")","v":""},{"$f":"IFERROR((VLOOKUP(B11,#REF!,3,FALSE)),\"\")","v":""},{"$f":"IFERROR((VLOOKUP(B11,#REF!,4,FALSE)),\"\")","v":""},{"$f":"IFERROR((VLOOKUP(B11,#REF!,6,FALSE)),\"\")","v":""},{"$f":"IFERROR((VLOOKUP(B11,#REF!,8,FALSE)),\"\")","v":""},{"$f":"IFERROR((VLOOKUP(B11,#REF!,7,FALSE)),\"\")","v":""},null,"",""]
["",null,{"$f":"IFERROR((VLOOKUP(B12,#REF!,2,FALSE)),\"\")","v":""},{"$f":"IFERROR((VLOOKUP(B12,#REF!,3,FALSE)),\"\")","v":""},{"$f":"IFERROR((VLOOKUP(B12,#REF!,4,FALSE)),\"\")","v":""},{"$f":"IFERROR((VLOOKUP(B12,#REF!,6,FALSE)),\"\")","v":""},{"$f":"IFERROR((VLOOKUP(B12,#REF!,8,FALSE)),\"\")","v":""},{"$f":"IFERROR((VLOOKUP(B12,#REF!,7,FALSE)),\"\")","v":""},null,"",""]
["",null,{"$f":"IFERROR((VLOOKUP(B13,#REF!,2,FALSE)),\"\")","v":""},{"$f":"IFERROR((VLOOKUP(B13,#REF!,3,FALSE)),\"\")","v":""},{"$f":"IFERROR((VLOOKUP(B13,#REF!,4,FALSE)),\"\")","v":""},{"$f":"IFERROR((VLOOKUP(B13,#REF!,6,FALSE)),\"\")","v":""},{"$f":"IFERROR((VLOOKUP(B13,#REF!,8,FALSE)),\"\")","v":""},{"$f":"IFERROR((VLOOKUP(B13,#REF!,7,FALSE)),\"\")","v":""},null,"",""]
["",null,{"$f":"IFERROR((VLOOKUP(B14,#REF!,2,FALSE)),\"\")","v":""},{"$f":"IFERROR((VLOOKUP(B14,#REF!,3,FALSE)),\"\")","v":""},{"$f":"IFERROR((VLOOKUP(B14,#REF!,4,FALSE)),\"\")","v":""},{"$f":"IFERROR((VLOOKUP(B14,#REF!,6,FALSE)),\"\")","v":""},{"$f":"IFERROR((VLOOKUP(B14,#REF!,8,FALSE)),\"\")","v":""},{"$f":"IFERROR((VLOOKUP(B14,#REF!,7,FALSE)),\"\")","v":""},null,"",""]
["",null,{"$f":"IFERROR((VLOOKUP(B15,#REF!,2,FALSE)),\"\")","v":""},{"$f":"IFERROR((VLOOKUP(B15,#REF!,3,FALSE)),\"\")","v":""},{"$f":"IFERROR((VLOOKUP(B15,#REF!,4,FALSE)),\"\")","v":""},{"$f":"IFERROR((VLOOKUP(B15,#REF!,6,FALSE)),\"\")","v":""},{"$f":"IFERROR((VLOOKUP(B15,#REF!,8,FALSE)),\"\")","v":""},{"$f":"IFERROR((VLOOKUP(B15,#REF!,7,FALSE)),\"\")","v":""},null,"",""]
["",null,{"$f":"IFERROR((VLOOKUP(B16,#REF!,2,FALSE)),\"\")","v":""},{"$f":"IFERROR((VLOOKUP(B16,#REF!,3,FALSE)),\"\")","v":""},{"$f":"IFERROR((VLOOKUP(B16,#REF!,4,FALSE)),\"\")","v":""},{"$f":"IFERROR((VLOOKUP(B16,#REF!,6,FALSE)),\"\")","v":""},{"$f":"IFERROR((VLOOKUP(B16,#REF!,8,FALSE)),\"\")","v":""},{"$f":"IFERROR((VLOOKUP(B16,#REF!,7,FALSE)),\"\")","v":""},null,"",""]
["",null,{"$f":"IFERROR((VLOOKUP(B17,#REF!,2,FALSE)),\"\")","v":""},{"$f":"IFERROR((VLOOKUP(B17,#REF!,3,FALSE)),\"\")","v":""},{"$f":"IFERROR((VLOOKUP(B17,#REF!,4,FALSE)),\"\")","v":""},{"$f":"IFERROR((VLOOKUP(B17,#REF!,6,FALSE)),\"\")","v":""},{"$f":"IFERROR((VLOOKUP(B17,#REF!,8,FALSE)),\"\")","v":""},{"$f":"IFERROR((VLOOKUP(B17,#REF!,7,FALSE)),\"\")","v":""},null,"",""]
["",null,{"$f":"IFERROR((VLOOKUP(B18,#REF!,2,FALSE)),\"\")","v":""},{"$f":"IFERROR((VLOOKUP(B18,#REF!,3,FALSE)),\"\")","v":""},{"$f":"IFERROR((VLOOKUP(B18,#REF!,4,FALSE)),\"\")","v":""},{"$f":"IFERROR((VLOOKUP(B18,#REF!,6,FALSE)),\"\")","v":""},{"$f":"IFERROR((VLOOKUP(B18,#REF!,8,FALSE)),\"\")","v":""},{"$f":"IFERROR((VLOOKUP(B18,#REF!,7,FALSE)),\"\")","v":""},null,"",""]
["",null,{"$f":"IFERROR((VLOOKUP(B19,#REF!,2,FALSE)),\"\")","v":""},{"$f":"IFERROR((VLOOKUP(B19,#REF!,3,FALSE)),\"\")","v":""},{"$f":"IFERROR((VLOOKUP(B19,#REF!,4,FALSE)),\"\")","v":""},{"$f":"IFERROR((VLOOKUP(B19,#REF!,6,FALSE)),\"\")","v":""},{"$f":"IFERROR((VLOOKUP(B19,#REF!,8,FALSE)),\"\")","v":""},{"$f":"IFERROR((VLOOKUP(B19,#REF!,7,FALSE)),\"\")","v":""},null,"",""]
["",null,{"$f":"IFERROR((VLOOKUP(B20,#REF!,2,FALSE)),\"\")","v":""},{"$f":"IFERROR((VLOOKUP(B20,#REF!,3,FALSE)),\"\")","v":""},{"$f":"IFERROR((VLOOKUP(B20,#REF!,4,FALSE)),\"\")","v":""},{"$f":"IFERROR((VLOOKUP(B20,#REF!,6,FALSE)),\"\")","v":""},{"$f":"IFERROR((VLOOKUP(B20,#REF!,8,FALSE)),\"\")","v":""},{"$f":"IFERROR((VLOOKUP(B20,#REF!,7,FALSE)),\"\")","v":""},null,"",""]
["",null,{"$f":"IFERROR((VLOOKUP(B21,#REF!,2,FALSE)),\"\")","v":""},{"$f":"IFERROR((VLOOKUP(B21,#REF!,3,FALSE)),\"\")","v":""},{"$f":"IFERROR((VLOOKUP(B21,#REF!,4,FALSE)),\"\")","v":""},{"$f":"IFERROR((VLOOKUP(B21,#REF!,6,FALSE)),\"\")","v":""},{"$f":"IFERROR((VLOOKUP(B21,#REF!,8,FALSE)),\"\")","v":""},{"$f":"IFERROR((VLOOKUP(B21,#REF!,7,FALSE)),\"\")","v":""},null,"",""]
["",null,{"$f":"IFERROR((VLOOKUP(B22,#REF!,2,FALSE)),\"\")","v":""},{"$f":"IFERROR((VLOOKUP(B22,#REF!,3,FALSE)),\"\")","v":""},{"$f":"IFERROR((VLOOKUP(B22,#REF!,4,FALSE)),\"\")","v":""},{"$f":"IFERROR((VLOOKUP(B22,#REF!,6,FALSE)),\"\")","v":""},{"$f":"IFERROR((VLOOKUP(B22,#REF!,8,FALSE)),\"\")","v":""},{"$f":"IFERROR((VLOOKUP(B22,#REF!,7,FALSE)),\"\")","v":""},null,"",""]
["",null,{"$f":"IFERROR((VLOOKUP(B23,#REF!,2,FALSE)),\"\")","v":""},{"$f":"IFERROR((VLOOKUP(B23,#REF!,3,FALSE)),\"\")","v":""},{"$f":"IFERROR((VLOOKUP(B23,#REF!,4,FALSE)),\"\")","v":""},{"$f":"IFERROR((VLOOKUP(B23,#REF!,6,FALSE)),\"\")","v":""},{"$f":"IFERROR((VLOOKUP(B23,#REF!,8,FALSE)),\"\")","v":""},{"$f":"IFERROR((VLOOKUP(B23,#REF!,7,FALSE)),\"\")","v":""},null,"",""]
["",null,{"$f":"IFERROR((VLOOKUP(B24,#REF!,2,FALSE)),\"\")","v":""},{"$f":"IFERROR((VLOOKUP(B24,#REF!,3,FALSE)),\"\")","v":""},{"$f":"IFERROR((VLOOKUP(B24,#REF!,4,FALSE)),\"\")","v":""},{"$f":"IFERROR((VLOOKUP(B24,#REF!,6,FALSE)),\"\")","v":""},{"$f":"IFERROR((VLOOKUP(B24,#REF!,8,FALSE)),\"\")","v":""},{"$f":"IFERROR((VLOOKUP(B24,#REF!,7,FALSE)),\"\")","v":""},null,"",""]
["",null,{"$f":"IFERROR((VLOOKUP(B25,#REF!,2,FALSE)),\"\")","v":""},{"$f":"IFERROR((VLOOKUP(B25,#REF!,3,FALSE)),\"\")","v":""},{"$f":"IFERROR((VLOOKUP(B25,#REF!,4,FALSE)),\"\")","v":""},{"$f":"IFERROR((VLOOKUP(B25,#REF!,6,FALSE)),\"\")","v":""},{"$f":"IFERROR((VLOOKUP(B25,#REF!,8,FALSE)),\"\")","v":""},{"$f":"IFERROR((VLOOKUP(B25,#REF!,7,FALSE)),\"\")","v":""},null,"",""]
["",null,{"$f":"IFERROR((VLOOKUP(B26,#REF!,2,FALSE)),\"\")","v":""},{"$f":"IFERROR((VLOOKUP(B26,#REF!,3,FALSE)),\"\")","v":""},{"$f":"IFERROR((VLOOKUP(B26,#REF!,4,FALSE)),\"\")","v":""},{"$f":"IFERROR((VLOOKUP(B26,#REF!,6,FALSE)),\"\")","v":""},{"$f":"IFERROR((VLOOKUP(B26,#REF!,8,FALSE)),\"\")","v":""},{"$f":"IFERROR((VLOOKUP(B26,#REF!,7,FALSE)),\"\")","v":""},null,"",""]
[]
["BENJAMINS FEMININOS"]
[]
["Pos","Dorsal ","Licença","Escalão","Nome","Género","Clube","Tempo Natação","Tempo Corrida","Tempo Final","Pontos"]
[{"$f":"IF(J31=\"\",\"\",RANK(J31,$J$31:$J$50,1))","v":""},null,{"$f":"IFERROR((VLOOKUP(B31,#REF!,2,FALSE)),\"\")","v":""},{"$f":"IFERROR((VLOOKUP(B31,#REF!,3,FALSE)),\"\")","v":""},{"$f":"IFERROR((VLOOKUP(B31,#REF!,4,FALSE)),\"\")","v":""},{"$f":"IFERROR((VLOOKUP(B31,#REF!,6,FALSE)),\"\")","v":""},{"$f":"IFERROR((VLOOKUP(B31,#REF!,8,FALSE)),\"\")","v":""},{"$f":"IFERROR((VLOOKUP(B31,#REF!,7,FALSE)),\"\")","v":""},null,{"$f":"IF(B31=\"\",\"\",H31+I31)","v":""},{"$f":"IF(B31>0,\"100\",\"\")","v":""}]
[{"$f":"IF(J32=\"\",\"\",RANK(J32,$J$31:$J$50,1))","v":""},null,{"$f":"IFERROR((VLOOKUP(B32,#REF!,2,FALSE)),\"\")","v":""},{"$f":"IFERROR((VLOOKUP(B32,#REF!,3,FALSE)),\"\")","v":""},{"$f":"IFERROR((VLOOKUP(B32,#REF!,4,FALSE)),\"\")","v":""},{"$f":"IFERROR((VLOOKUP(B32,#REF!,6,FALSE)),\"\")","v":""},{"$f":"IFERROR((VLOOKUP(B32,#REF!,8,FALSE)),\"\")","v":""},{"$f":"IFERROR((VLOOKUP(B32,#REF!,7,FALSE)),\"\")","v":""},null,"",{"$f":"IF(B32>0,K31-1,\"\")","v":""}]
[{"$f":"IF(J33=\"\",\"\",RANK(J33,$J$31:$J$50,1))","v":""},null,{"$f":"IFERROR((VLOOKUP(B33,#REF!,2,FALSE)),\"\")","v":""},{"$f":"IFERROR((VLOOKUP(B33,#REF!,3,FALSE)),\"\")","v":""},{"$f":"IFERROR((VLOOKUP(B33,#REF!,4,FALSE)),\"\")","v":""},{"$f":"IFERROR((VLOOKUP(B33,#REF!,6,FALSE)),\"\")","v":""},{"$f":"IFERROR((VLOOKUP(B33,#REF!,8,FALSE)),\"\")","v":""},{"$f":"IFERROR((VLOOKUP(B33,#REF!,7,FALSE)),\"\")","v":""},null,"",""]
["",null,{"$f":"IFERROR((VLOOKUP(B34,#REF!,2,FALSE)),\"\")","v":""},{"$f":"IFERROR((VLOOKUP(B34,#REF!,3,FALSE)),\"\")","v":""},{"$f":"IFERROR((VLOOKUP(B34,#REF!,4,FALSE)),\"\")","v":""},{"$f":"IFERROR((VLOOKUP(B34,#REF!,6,FALSE)),\"\")","v":""},{"$f":"IFERROR((VLOOKUP(B34,#REF!,8,FALSE)),\"\")","v":""},{"$f":"IFERROR((VLOOKUP(B34,#REF!,7,FALSE)),\"\")","v":""},null,"",""]
["",null,{"$f":"IFERROR((VLOOKUP(B35,#REF!,2,FALSE)),\"\")","v":""},{"$f":"IFERROR((VLOOKUP(B35,#REF!,3,FALSE)),\"\")","v":""},{"$f":"IFERROR((VLOOKUP(B35,#REF!,4,FALSE)),\"\")","v":""},{"$f":"IFERROR((VLOOKUP(B35,#REF!,6,FALSE)),\"\")","v":""},{"$f":"IFERROR((VLOOKUP(B35,#REF!,8,FALSE)),\"\")","v":""},{"$f":"IFERROR((VLOOKUP(B35,#REF!,7,FALSE)),\"\")","v":""},null,"",""]
["",null,{"$f":"IFERROR((VLOOKUP(B36,#REF!,2,FALSE)),\"\")","v":""},{"$f":"IFERROR((VLOOKUP(B36,#REF!,3,FALSE)),\"\")","v":""},{"$f":"IFERROR((VLOOKUP(B36,#REF!,4,FALSE)),\"\")","v":""},{"$f":"IFERROR((VLOOKUP(B36,#REF!,6,FALSE)),\"\")","v":""},{"$f":"IFERROR((VLOOKUP(B36,#REF!,8,FALSE)),\"\")","v":""},{"$f":"IFERROR((VLOOKUP(B36,#REF!,7,FALSE)),\"\")","v":""},null,"",""]
["",null,{"$f":"IFERROR((VLOOKUP(B37,#REF!,2,FALSE)),\"\")","v":""},{"$f":"IFERROR((VLOOKUP(B37,#REF!,3,FALSE)),\"\")","v":""},{"$f":"IFERROR((VLOOKUP(B37,#REF!,4,FALSE)),\"\")","v":""},{"$f":"IFERROR((VLOOKUP(B37,#REF!,6,FALSE)),\"\")","v":""},{"$f":"IFERROR((VLOOKUP(B37,#REF!,9,FALSE)),\"\")","v":""},{"$f":"IFERROR((VLOOKUP(B37,#REF!,7,FALSE)),\"\")","v":""},null,"",""]
["",null,{"$f":"IFERROR((VLOOKUP(B38,#REF!,2,FALSE)),\"\")","v":""},{"$f":"IFERROR((VLOOKUP(B38,#REF!,3,FALSE)),\"\")","v":""},{"$f":"IFERROR((VLOOKUP(B38,#REF!,4,FALSE)),\"\")","v":""},{"$f":"IFERROR((VLOOKUP(B38,#REF!,6,FALSE)),\"\")","v":""},{"$f":"IFERROR((VLOOKUP(B38,#REF!,9,FALSE)),\"\")","v":""},{"$f":"IFERROR((VLOOKUP(B38,#REF!,7,FALSE)),\"\")","v":""},null,"",""]
["",null,{"$f":"IFERROR((VLOOKUP(B39,#REF!,2,FALSE)),\"\")","v":""},{"$f":"IFERROR((VLOOKUP(B39,#REF!,3,FALSE)),\"\")","v":""},{"$f":"IFERROR((VLOOKUP(B39,#REF!,4,FALSE)),\"\")","v":""},{"$f":"IFERROR((VLOOKUP(B39,#REF!,6,FALSE)),\"\")","v":""},{"$f":"IFERROR((VLOOKUP(B39,#REF!,9,FALSE)),\"\")","v":""},{"$f":"IFERROR((VLOOKUP(B39,#REF!,7,FALSE)),\"\")","v":""},null,"",""]
["",null,{"$f":"IFERROR((VLOOKUP(B40,#REF!,2,FALSE)),\"\")","v":""},{"$f":"IFERROR((VLOOKUP(B40,#REF!,3,FALSE)),\"\")","v":""},{"$f":"IFERROR((VLOOKUP(B40,#REF!,4,FALSE)),\"\")","v":""},{"$f":"IFERROR((VLOOKUP(B40,#REF!,6,FALSE)),\"\")","v":""},{"$f":"IFERROR((VLOOKUP(B40,#REF!,9,FALSE)),\"\")","v":""},{"$f":"IFERROR((VLOOKUP(B40,#REF!,7,FALSE)),\"\")","v":""},null,"",""]
["",null,{"$f":"IFERROR((VLOOKUP(B41,#REF!,2,FALSE)),\"\")","v":""},{"$f":"IFERROR((VLOOKUP(B41,#REF!,3,FALSE)),\"\")","v":""},{"$f":"IFERROR((VLOOKUP(B41,#REF!,4,FALSE)),\"\")","v":""},{"$f":"IFERROR((VLOOKUP(B41,#REF!,6,FALSE)),\"\")","v":""},{"$f":"IFERROR((VLOOKUP(B41,#REF!,9,FALSE)),\"\")","v":""},{"$f":"IFERROR((VLOOKUP(B41,#REF!,7,FALSE)),\"\")","v":""},null,"",""]
["",null,{"$f":"IFERROR((VLOOKUP(B42,#REF!,2,FALSE)),\"\")","v":""},{"$f":"IFERROR((VLOOKUP(B42,#REF!,3,FALSE)),\"\")","v":""},{"$f":"IFERROR((VLOOKUP(B42,#REF!,4,FALSE)),\"\")","v":""},{"$f":"IFERROR((VLOOKUP(B42,#REF!,6,FALSE)),\"\")","v":""},{"$f":"IFERROR((VLOOKUP(B42,#REF!,9,FALSE)),\"\")","v":""},{"$f":"IFERROR((VLOOKUP(B42,#REF!,7,FALSE)),\"\")","v":""},null,"",""]
["",null,{"$f":"IFERROR((VLOOKUP(B43,#REF!,2,FALSE)),\"\")","v":""},{"$f":"IFERROR((VLOOKUP(B43,#REF!,3,FALSE)),\"\")","v":""},{"$f":"IFERROR((VLOOKUP(B43,#REF!,4,FALSE)),\"\")","v":""},{"$f":"IFERROR((VLOOKUP(B43,#REF!,6,FALSE)),\"\")","v":""},{"$f":"IFERROR((VLOOKUP(B43,#REF!,9,FALSE)),\"\")","v":""},{"$f":"IFERROR((VLOOKUP(B43,#REF!,7,FALSE)),\"\")","v":""},null,"",""]
["",null,{"$f":"IFERROR((VLOOKUP(B44,#REF!,2,FALSE)),\"\")","v":""},{"$f":"IFERROR((VLOOKUP(B44,#REF!,3,FALSE)),\"\")","v":""},{"$f":"IFERROR((VLOOKUP(B44,#REF!,4,FALSE)),\"\")","v":""},{"$f":"IFERROR((VLOOKUP(B44,#REF!,6,FALSE)),\"\")","v":""},{"$f":"IFERROR((VLOOKUP(B44,#REF!,9,FALSE)),\"\")","v":""},{"$f":"IFERROR((VLOOKUP(B44,#REF!,7,FALSE)),\"\")","v":""},null,"",""]
["",null,{"$f":"IFERROR((VLOOKUP(B45,#REF!,2,FALSE)),\"\")","v":""},{"$f":"IFERROR((VLOOKUP(B45,#REF!,3,FALSE)),\"\")","v":""},{"$f":"IFERROR((VLOOKUP(B45,#REF!,4,FALSE)),\"\")","v":""},{"$f":"IFERROR((VLOOKUP(B45,#REF!,6,FALSE)),\"\")","v":""},{"$f":"IFERROR((VLOOKUP(B45,#REF!,9,FALSE)),\"\")","v":""},{"$f":"IFERROR((VLOOKUP(B45,#REF!,7,FALSE)),\"\")","v":""},null,"",""]
["",null,{"$f":"IFERROR((VLOOKUP(B46,#REF!,2,FALSE)),\"\")","v":""},{"$f":"IFERROR((VLOOKUP(B46,#REF!,3,FALSE)),\"\")","v":""},{"$f":"IFERROR((VLOOKUP(B46,#REF!,4,FALSE)),\"\")","v":""},{"$f":"IFERROR((VLOOKUP(B46,#REF!,6,FALSE)),\"\")","v":""},{"$f":"IFERROR((VLOOKUP(B46,#REF!,9,FALSE)),\"\")","v":""},{"$f":"IFERROR((VLOOKUP(B46,#REF!,7,FALSE)),\"\")","v":""},null,"",""]
["",null,{"$f":"IFERROR((VLOOKUP(B47,#REF!,2,FALSE)),\"\")","v":""},{"$f":"IFERROR((VLOOKUP(B47,#REF!,3,FALSE)),\"\")","v":""},{"$f":"IFERROR((VLOOKUP(B47,#REF!,4,FALSE)),\"\")","v":""},{"$f":"IFERROR((VLOOKUP(B47,#REF!,6,FALSE)),\"\")","v":""},{"$f":"IFERROR((VLOOKUP(B47,#REF!,9,FALSE)),\"\")","v":""},{"$f":"IFERROR((VLOOKUP(B47,#REF!,7,FALSE)),\"\")","v":""},null,"",""]
["",null,{"$f":"IFERROR((VLOOKUP(B48,#REF!,2,FALSE)),\"\")","v":""},{"$f":"IFERROR((VLOOKUP(B48,#REF!,3,FALSE)),\"\")","v":""},{"$f":"IFERROR((VLOOKUP(B48,#REF!,4,FALSE)),\"\")","v":""},{"$f":"IFERROR((VLOOKUP(B48,#REF!,6,FALSE)),\"\")","v":""},{"$f":"IFERROR((VLOOKUP(B48,#REF!,9,FALSE)),\"\")","v":""},{"$f":"IFERROR((VLOOKUP(B48,#REF!,7,FALSE)),\"\")","v":""},null,"",""]
["",null,{"$f":"IFERROR((VLOOKUP(B49,#REF!,2,FALSE)),\"\")","v":""},{"$f":"IFERROR((VLOOKUP(B49,#REF!,3,FALSE)),\"\")","v":""},{"$f":"IFERROR((VLOOKUP(B49,#REF!,4,FALSE)),\"\")","v":""},{"$f":"IFERROR((VLOOKUP(B49,#REF!,6,FALSE)),\"\")","v":""},{"$f":"IFERROR((VLOOKUP(B49,#REF!,9,FALSE)),\"\")","v":""},{"$f":"IFERROR((VLOOKUP(B49,#REF!,7,FALSE)),\"\")","v":""},null,"",""]
["",null,{"$f":"IFERROR((VLOOKUP(B50,#REF!,2,FALSE)),\"\")","v":""},{"$f":"IFERROR((VLOOKUP(B50,#REF!,3,FALSE)),\"\")","v":""},{"$f":"IFERROR((VLOOKUP(B50,#REF!,4,FALSE)),\"\")","v":""},{"$f":"IFERROR((VLOOKUP(B50,#REF!,6,FALSE)),\"\")","v":""},{"$f":"IFERROR((VLOOKUP(B50,#REF!,9,FALSE)),\"\")","v":""},{"$f":"IFERROR((VLOOKUP(B50,#REF!,7,FALSE)),\"\")","v":""},null,"",""]
[]
["INFANTIS MASCULINOS"]
[]
["Pos","Dorsal ","Licença","Escalão","Nome","Género","Clube","Tempo Natação","Tempo Corrida","Tempo Final","Pontos"]
[{"$f":"IF(J55=\"\",\"\",RANK(J55,$J$55:$J$87,1))","v":""},null,{"$f":"IFERROR((VLOOKUP(B55,#REF!,2,FALSE)),\"\")","v":""},{"$f":"IFERROR((VLOOKUP(B55,#REF!,3,FALSE)),\"\")","v":""},{"$f":"IFERROR((VLOOKUP(B55,#REF!,4,FALSE)),\"\")","v":""},{"$f":"IFERROR((VLOOKUP(B55,#REF!,6,FALSE)),\"\")","v":""},{"$f":"IFERROR((VLOOKUP(B55,#REF!,8,FALSE)),\"\")","v":""},{"$f":"IFERROR((VLOOKUP(B55,#REF!,7,FALSE)),\"\")","v":""},null,{"$f":"IF(B55=\"\",\"\",H55+I55)","v":""},{"$f":"IF(B55>0,\"100\",\"\")","v":""}]
[{"$f":"IF(J56=\"\",\"\",RANK(J56,$J$55:$J$87,1))","v":""},null,{"$f":"IFERROR((VLOOKUP(B56,#REF!,2,FALSE)),\"\")","v":""},{"$f":"IFERROR((VLOOKUP(B56,#REF!,3,FALSE)),\"\")","v":""},{"$f":"IFERROR((VLOOKUP(B56,#REF!,4,FALSE)),\"\")","v":""},{"$f":"IFERROR((VLOOKUP(B56,#REF!,6,FALSE)),\"\")","v":""},{"$f":"IFERROR((VLOOKUP(B56,#REF!,8,FALSE)),\"\")","v":""},{"$f":"IFERROR((VLOOKUP(B56,#REF!,7,FALSE)),\"\")","v":""},null,{"$f":"IF(B56=\"\",\"\",H56+I56)","v":""},{"$f":"IF(B56>0,K55-1,\"\")","v":""}]
["",null,{"$f":"IFERROR((VLOOKUP(B57,#REF!,2,FALSE)),\"\")","v":""},{"$f":"IFERROR((VLOOKUP(B57,#REF!,3,FALSE)),\"\")","v":""},{"$f":"IFERROR((VLOOKUP(B57,#REF!,4,FALSE)),\"\")","v":""},{"$f":"IFERROR((VLOOKUP(B57,#REF!,6,FALSE)),\"\")","v":""},{"$f":"IFERROR((VLOOKUP(B57,#REF!,8,FALSE)),\"\")","v":""},{"$f":"IFERROR((VLOOKUP(B57,#REF!,7,FALSE)),\"\")","v":""},null,{"$f":"IF(B57=\"\",\"\",H57+I57)","v":""},{"$f":"IF(B57>0,K56-1,\"\")","v":""}]
["",null,{"$f":"IFERROR((VLOOKUP(B58,#REF!,2,FALSE)),\"\")","v":""},{"$f":"IFERROR((VLOOKUP(B58,#REF!,3,FALSE)),\"\")","v":""},{"$f":"IFERROR((VLOOKUP(B58,#REF!,4,FALSE)),\"\")","v":""},{"$f":"IFERROR((VLOOKUP(B58,#REF!,6,FALSE)),\"\")","v":""},{"$f":"IFERROR((VLOOKUP(B58,#REF!,8,FALSE)),\"\")","v":""},{"$f":"IFERROR((VLOOKUP(B58,#REF!,7,FALSE)),\"\")","v":""},null,{"$f":"IF(B58=\"\",\"\",H58+I58)","v":""},""]
["",null,{"$f":"IFERROR((VLOOKUP(B59,#REF!,2,FALSE)),\"\")","v":""},{"$f":"IFERROR((VLOOKUP(B59,#REF!,3,FALSE)),\"\")","v":""},{"$f":"IFERROR((VLOOKUP(B59,#REF!,4,FALSE)),\"\")","v":""},{"$f":"IFERROR((VLOOKUP(B59,#REF!,6,FALSE)),\"\")","v":""},{"$f":"IFERROR((VLOOKUP(B59,#REF!,8,FALSE)),\"\")","v":""},{"$f":"IFERROR((VLOOKUP(B59,#REF!,7,FALSE)),\"\")","v":""},null,"",""]
["",null,{"$f":"IFERROR((VLOOKUP(B60,#REF!,2,FALSE)),\"\")","v":""},{"$f":"IFERROR((VLOOKUP(B60,#REF!,3,FALSE)),\"\")","v":""},{"$f":"IFERROR((VLOOKUP(B60,#REF!,4,FALSE)),\"\")","v":""},{"$f":"IFERROR((VLOOKUP(B60,#REF!,6,FALSE)),\"\")","v":""},{"$f":"IFERROR((VLOOKUP(B60,#REF!,8,FALSE)),\"\")","v":""},{"$f":"IFERROR((VLOOKUP(B60,#REF!,7,FALSE)),\"\")","v":""},null,"",""]
["",null,{"$f":"IFERROR((VLOOKUP(B61,#REF!,2,FALSE)),\"\")","v":""},{"$f":"IFERROR((VLOOKUP(B61,#REF!,3,FALSE)),\"\")","v":""},{"$f":"IFERROR((VLOOKUP(B61,#REF!,4,FALSE)),\"\")","v":""},{"$f":"IFERROR((VLOOKUP(B61,#REF!,6,FALSE)),\"\")","v":""},{"$f":"IFERROR((VLOOKUP(B61,#REF!,8,FALSE)),\"\")","v":""},{"$f":"IFERROR((VLOOKUP(B61,#REF!,7,FALSE)),\"\")","v":""},null,"",""]
["",null,{"$f":"IFERROR((VLOOKUP(B62,#REF!,2,FALSE)),\"\")","v":""},{"$f":"IFERROR((VLOOKUP(B62,#REF!,3,FALSE)),\"\")","v":""},{"$f":"IFERROR((VLOOKUP(B62,#REF!,4,FALSE)),\"\")","v":""},{"$f":"IFERROR((VLOOKUP(B62,#REF!,6,FALSE)),\"\")","v":""},{"$f":"IFERROR((VLOOKUP(B62,#REF!,8,FALSE)),\"\")","v":""},{"$f":"IFERROR((VLOOKUP(B62,#REF!,7,FALSE)),\"\")","v":""},null,"",""]
["",null,{"$f":"IFERROR((VLOOKUP(B63,#REF!,2,FALSE)),\"\")","v":""},{"$f":"IFERROR((VLOOKUP(B63,#REF!,3,FALSE)),\"\")","v":""},{"$f":"IFERROR((VLOOKUP(B63,#REF!,4,FALSE)),\"\")","v":""},{"$f":"IFERROR((VLOOKUP(B63,#REF!,6,FALSE)),\"\")","v":""},{"$f":"IFERROR((VLOOKUP(B63,#REF!,8,FALSE)),\"\")","v":""},{"$f":"IFERROR((VLOOKUP(B63,#REF!,7,FALSE)),\"\")","v":""},null,"",""]
["",null,{"$f":"IFERROR((VLOOKUP(B64,#REF!,2,FALSE)),\"\")","v":""},{"$f":"IFERROR((VLOOKUP(B64,#REF!,3,FALSE)),\"\")","v":""},{"$f":"IFERROR((VLOOKUP(B64,#REF!,4,FALSE)),\"\")","v":""},{"$f":"IFERROR((VLOOKUP(B64,#REF!,6,FALSE)),\"\")","v":""},{"$f":"IFERROR((VLOOKUP(B64,#REF!,8,FALSE)),\"\")","v":""},{"$f":"IFERROR((VLOOKUP(B64,#REF!,7,FALSE)),\"\")","v":""},null,"",""]
["",null,{"$f":"IFERROR((VLOOKUP(B65,#REF!,2,FALSE)),\"\")","v":""},{"$f":"IFERROR((VLOOKUP(B65,#REF!,3,FALSE)),\"\")","v":""},{"$f":"IFERROR((VLOOKUP(B65,#REF!,4,FALSE)),\"\")","v":""},{"$f":"IFERROR((VLOOKUP(B65,#REF!,6,FALSE)),\"\")","v":""},{"$f":"IFERROR((VLOOKUP(B65,#REF!,8,FALSE)),\"\")","v":""},{"$f":"IFERROR((VLOOKUP(B65,#REF!,7,FALSE)),\"\")","v":""},null,"",""]
["",null,{"$f":"IFERROR((VLOOKUP(B66,#REF!,2,FALSE)),\"\")","v":""},{"$f":"IFERROR((VLOOKUP(B66,#REF!,3,FALSE)),\"\")","v":""},{"$f":"IFERROR((VLOOKUP(B66,#REF!,4,FALSE)),\"\")","v":""},{"$f":"IFERROR((VLOOKUP(B66,#REF!,6,FALSE)),\"\")","v":""},{"$f":"IFERROR((VLOOKUP(B66,#REF!,8,FALSE)),\"\")","v":""},{"$f":"IFERROR((VLOOKUP(B66,#REF!,7,FALSE)),\"\")","v":""},null,"",""]
["",null,{"$f":"IFERROR((VLOOKUP(B67,#REF!,2,FALSE)),\"\")","v":""},{"$f":"IFERROR((VLOOKUP(B67,#REF!,3,FALSE)),\"\")","v":""},{"$f":"IFERROR((VLOOKUP(B67,#REF!,4,FALSE)),\"\")","v":""},{"$f":"IFERROR((VLOOKUP(B67,#REF!,6,FALSE)),\"\")","v":""},{"$f":"IFERROR((VLOOKUP(B67,#REF!,8,FALSE)),\"\")","v":""},{"$f":"IFERROR((VLOOKUP(B67,#REF!,7,FALSE)),\"\")","v":""},null,"",""]
["",null,{"$f":"IFERROR((VLOOKUP(B68,#REF!,2,FALSE)),\"\")","v":""},{"$f":"IFERROR((VLOOKUP(B68,#REF!,3,FALSE)),\"\")","v":""},{"$f":"IFERROR((VLOOKUP(B68,#REF!,4,FALSE)),\"\")","v":""},{"$f":"IFERROR((VLOOKUP(B68,#REF!,6,FALSE)),\"\")","v":""},{"$f":"IFERROR((VLOOKUP(B68,#REF!,8,FALSE)),\"\")","v":""},{"$f":"IFERROR((VLOOKUP(B68,#REF!,7,FALSE)),\"\")","v":""},null,"",""]
["",null,{"$f":"IFERROR((VLOOKUP(B69,#REF!,2,FALSE)),\"\")","v":""},{"$f":"IFERROR((VLOOKUP(B69,#REF!,3,FALSE)),\"\")","v":""},{"$f":"IFERROR((VLOOKUP(B69,#REF!,4,FALSE)),\"\")","v":""},{"$f":"IFERROR((VLOOKUP(B69,#REF!,6,FALSE)),\"\")","v":""},{"$f":"IFERROR((VLOOKUP(B69,#REF!,8,FALSE)),\"\")","v":""},{"$f":"IFERROR((VLOOKUP(B69,#REF!,7,FALSE)),\"\")","v":""},null,"",""]
["",null,{"$f":"IFERROR((VLOOKUP(B70,#REF!,2,FALSE)),\"\")","v":""},{"$f":"IFERROR((VLOOKUP(B70,#REF!,3,FALSE)),\"\")","v":""},{"$f":"IFERROR((VLOOKUP(B70,#REF!,4,FALSE)),\"\")","v":""},{"$f":"IFERROR((VLOOKUP(B70,#REF!,6,FALSE)),\"\")","v":""},{"$f":"IFERROR((VLOOKUP(B70,#REF!,8,FALSE)),\"\")","v":""},{"$f":"IFERROR((VLOOKUP(B70,#REF!,7,FALSE)),\"\")","v":""},null,"",""]
["",null,{"$f":"IFERROR((VLOOKUP(B71,#REF!,2,FALSE)),\"\")","v":""},{"$f":"IFERROR((VLOOKUP(B71,#REF!,3,FALSE)),\"\")","v":""},{"$f":"IFERROR((VLOOKUP(B71,#REF!,4,FALSE)),\"\")","v":""},{"$f":"IFERROR((VLOOKUP(B71,#REF!,6,FALSE)),\"\")","v":""},{"$f":"IFERROR((VLOOKUP(B71,#REF!,8,FALSE)),\"\")","v":""},{"$f":"IFERROR((VLOOKUP(B71,#REF!,7,FALSE)),\"\")","v":""},null,"",""]
["",null,{"$f":"IFERROR((VLOOKUP(B72,#REF!,2,FALSE)),\"\")","v":""},{"$f":"IFERROR((VLOOKUP(B72,#REF!,3,FALSE)),\"\")","v":""},{"$f":"IFERROR((VLOOKUP(B72,#REF!,4,FALSE)),\"\")","v":""},{"$f":"IFERROR((VLOOKUP(B72,#REF!,6,FALSE)),\"\")","v":""},{"$f":"IFERROR((VLOOKUP(B72,#REF!,8,FALSE)),\"\")","v":""},{"$f":"IFERROR((VLOOKUP(B72,#REF!,7,FALSE)),\"\")","v":""},null,"",""]
["",null,{"$f":"IFERROR((VLOOKUP(B73,#REF!,2,FALSE)),\"\")","v":""},{"$f":"IFERROR((VLOOKUP(B73,#REF!,3,FALSE)),\"\")","v":""},{"$f":"IFERROR((VLOOKUP(B73,#REF!,4,FALSE)),\"\")","v":""},{"$f":"IFERROR((VLOOKUP(B73,#REF!,6,FALSE)),\"\")","v":""},{"$f":"IFERROR((VLOOKUP(B73,#REF!,8,FALSE)),\"\")","v":""},{"$f":"IFERROR((VLOOKUP(B73,#REF!,7,FALSE)),\"\")","v":""},null,"",""]
["",null,{"$f":"IFERROR((VLOOKUP(B74,#REF!,2,FALSE)),\"\")","v":""},{"$f":"IFERROR((VLOOKUP(B74,#REF!,3,FALSE)),\"\")","v":""},{"$f":"IFERROR((VLOOKUP(B74,#REF!,4,FALSE)),\"\")","v":""},{"$f":"IFERROR((VLOOKUP(B74,#REF!,6,FALSE)),\"\")","v":""},{"$f":"IFERROR((VLOOKUP(B74,#REF!,8,FALSE)),\"\")","v":""},{"$f":"IFERROR((VLOOKUP(B74,#REF!,7,FALSE)),\"\")","v":""},null,"",""]
["",null,{"$f":"IFERROR((VLOOKUP(B75,#REF!,2,FALSE)),\"\")","v":""},{"$f":"IFERROR((VLOOKUP(B75,#REF!,3,FALSE)),\"\")","v":""},{"$f":"IFERROR((VLOOKUP(B75,#REF!,4,FALSE)),\"\")","v":""},{"$f":"IFERROR((VLOOKUP(B75,#REF!,6,FALSE)),\"\")","v":""},{"$f":"IFERROR((VLOOKUP(B75,#REF!,8,FALSE)),\"\")","v":""},{"$f":"IFERROR((VLOOKUP(B75,#REF!,7,FALSE)),\"\")","v":""},null,"",""]
["",null,{"$f":"IFERROR((VLOOKUP(B76,#REF!,2,FALSE)),\"\")","v":""},{"$f":"IFERROR((VLOOKUP(B76,#REF!,3,FALSE)),\"\")","v":""},{"$f":"IFERROR((VLOOKUP(B76,#REF!,4,FALSE)),\"\")","v":""},{"$f":"IFERROR((VLOOKUP(B76,#REF!,6,FALSE)),\"\")","v":""},{"$f":"IFERROR((VLOOKUP(B76,#REF!,8,FALSE)),\"\")","v":""},{"$f":"IFERROR((VLOOKUP(B76,#REF!,7,FALSE)),\"\")","v":""},null,"",""]
["",null,{"$f":"IFERROR((VLOOKUP(B77,#REF!,2,FALSE)),\"\")","v":""},{"$f":"IFERROR((VLOOKUP(B77,#REF!,3,FALSE)),\"\")","v":""},{"$f":"IFERROR((VLOOKUP(B77,#REF!,4,FALSE)),\"\")","v":""},{"$f":"IFERROR((VLOOKUP(B77,#REF!,6,FALSE)),\"\")","v":""},{"$f":"IFERROR((VLOOKUP(B77,#REF!,8,FALSE)),\"\")","v":""},{"$f":"IFERROR((VLOOKUP(B77,#REF!,7,FALSE)),\"\")","v":""},null,"",""]
["",null,{"$f":"IFERROR((VLOOKUP(B78,#REF!,2,FALSE)),\"\")","v":""},{"$f":"IFERROR((VLOOKUP(B78,#REF!,3,FALSE)),\"\")","v":""},{"$f":"IFERROR((VLOOKUP(B78,#REF!,4,FALSE)),\"\")","v":""},{"$f":"IFERROR((VLOOKUP(B78,#REF!,6,FALSE)),\"\")","v":""},{"$f":"IFERROR((VLOOKUP(B78,#REF!,8,FALSE)),\"\")","v":""},{"$f":"IFERROR((VLOOKUP(B78,#REF!,7,FALSE)),\"\")","v":""},null,"",""]
["",null,{"$f":"IFERROR((VLOOKUP(B79,#REF!,2,FALSE)),\"\")","v":""},{"$f":"IFERROR((VLOOKUP(B79,#REF!,3,FALSE)),\"\")","v":""},{"$f":"IFERROR((VLOOKUP(B79,#REF!,4,FALSE)),\"\")","v":""},{"$f":"IFERROR((VLOOKUP(B79,#REF!,6,FALSE)),\"\")","v":""},{"$f":"IFERROR((VLOOKUP(B79,#REF!,8,FALSE)),\"\")","v":""},{"$f":"IFERROR((VLOOKUP(B79,#REF!,7,FALSE)),\"\")","v":""},null,"",""]
["",null,{"$f":"IFERROR((VLOOKUP(B80,#REF!,2,FALSE)),\"\")","v":""},{"$f":"IFERROR((VLOOKUP(B80,#REF!,3,FALSE)),\"\")","v":""},{"$f":"IFERROR((VLOOKUP(B80,#REF!,4,FALSE)),\"\")","v":""},{"$f":"IFERROR((VLOOKUP(B80,#REF!,6,FALSE)),\"\")","v":""},{"$f":"IFERROR((VLOOKUP(B80,#REF!,8,FALSE)),\"\")","v":""},{"$f":"IFERROR((VLOOKUP(B80,#REF!,7,FALSE)),\"\")","v":""},null,"",""]
["",null,{"$f":"IFERROR((VLOOKUP(B81,#REF!,2,FALSE)),\"\")","v":""},{"$f":"IFERROR((VLOOKUP(B81,#REF!,3,FALSE)),\"\")","v":""},{"$f":"IFERROR((VLOOKUP(B81,#REF!,4,FALSE)),\"\")","v":""},{"$f":"IFERROR((VLOOKUP(B81,#REF!,6,FALSE)),\"\")","v":""},{"$f":"IFERROR((VLOOKUP(B81,#REF!,8,FALSE)),\"\")","v":""},{"$f":"IFERROR((VLOOKUP(B81,#REF!,7,FALSE)),\"\")","v":""},null,"",""]
["",null,{"$f":"IFERROR((VLOOKUP(B82,#REF!,2,FALSE)),\"\")","v":""},{"$f":"IFERROR((VLOOKUP(B82,#REF!,3,FALSE)),\"\")","v":""},{"$f":"IFERROR((VLOOKUP(B82,#REF!,4,FALSE)),\"\")","v":""},{"$f":"IFERROR((VLOOKUP(B82,#REF!,6,FALSE)),\"\")","v":""},{"$f":"IFERROR((VLOOKUP(B82,#REF!,8,FALSE)),\"\")","v":""},{"$f":"IFERROR((VLOOKUP(B82,#REF!,7,FALSE)),\"\")","v":""},null,"",""]
["",null,{"$f":"IFERROR((VLOOKUP(B83,#REF!,2,FALSE)),\"\")","v":""},{"$f":"IFERROR((VLOOKUP(B83,#REF!,3,FALSE)),\"\")","v":""},{"$f":"IFERROR((VLOOKUP(B83,#REF!,4,FALSE)),\"\")","v":""},{"$f":"IFERROR((VLOOKUP(B83,#REF!,6,FALSE)),\"\")","v":""},{"$f":"IFERROR((VLOOKUP(B83,#REF!,8,FALSE)),\"\")","v":""},{"$f":"IFERROR((VLOOKUP(B83,#REF!,7,FALSE)),\"\")","v":""},null,"",""]
["",null,{"$f":"IFERROR((VLOOKUP(B84,#REF!,2,FALSE)),\"\")","v":""},{"$f":"IFERROR((VLOOKUP(B84,#REF!,3,FALSE)),\"\")","v":""},{"$f":"IFERROR((VLOOKUP(B84,#REF!,4,FALSE)),\"\")","v":""},{"$f":"IFERROR((VLOOKUP(B84,#REF!,6,FALSE)),\"\")","v":""},{"$f":"IFERROR((VLOOKUP(B84,#REF!,8,FALSE)),\"\")","v":""},{"$f":"IFERROR((VLOOKUP(B84,#REF!,7,FALSE)),\"\")","v":""},null,"",""]
["",null,{"$f":"IFERROR((VLOOKUP(B85,#REF!,2,FALSE)),\"\")","v":""},{"$f":"IFERROR((VLOOKUP(B85,#REF!,3,FALSE)),\"\")","v":""},{"$f":"IFERROR((VLOOKUP(B85,#REF!,4,FALSE)),\"\")","v":""},{"$f":"IFERROR((VLOOKUP(B85,#REF!,6,FALSE)),\"\")","v":""},{"$f":"IFERROR((VLOOKUP(B85,#REF!,8,FALSE)),\"\")","v":""},{"$f":"IFERROR((VLOOKUP(B85,#REF!,7,FALSE)),\"\")","v":""},null,"",""]
["",null,{"$f":"IFERROR((VLOOKUP(B86,#REF!,2,FALSE)),\"\")","v":""},{"$f":"IFERROR((VLOOKUP(B86,#REF!,3,FALSE)),\"\")","v":""},{"$f":"IFERROR((VLOOKUP(B86,#REF!,4,FALSE)),\"\")","v":""},{"$f":"IFERROR((VLOOKUP(B86,#REF!,6,FALSE)),\"\")","v":""},{"$f":"IFERROR((VLOOKUP(B86,#REF!,8,FALSE)),\"\")","v":""},{"$f":"IFERROR((VLOOKUP(B86,#REF!,7,FALSE)),\"\")","v":""},null,"",""]
["",null,{"$f":"IFERROR((VLOOKUP(B87,#REF!,2,FALSE)),\"\")","v":""},{"$f":"IFERROR((VLOOKUP(B87,#REF!,3,FALSE)),\"\")","v":""},{"$f":"IFERROR((VLOOKUP(B87,#REF!,4,FALSE)),\"\")","v":""},{"$f":"IFERROR((VLOOKUP(B87,#REF!,6,FALSE)),\"\")","v":""},{"$f":"IFERROR((VLOOKUP(B87,#REF!,8,FALSE)),\"\")","v":""},{"$f":"IFERROR((VLOOKUP(B87,#REF!,7,FALSE)),\"\")","v":""},null,"",""]
[]
["INFANTIS FEMININOS"]
[]
["Pos","Dorsal ","Licença","Escalão","Nome","Género","Clube","Tempo Natação","Tempo Corrida","Tempo Final","Pontos"]
[{"$f":"IF(J92=\"\",\"\",RANK(J92,$J$92:$J$111,1))","v":""},null,{"$f":"IFERROR((VLOOKUP(B92,#REF!,2,FALSE)),\"\")","v":""},{"$f":"IFERROR((VLOOKUP(B92,#REF!,3,FALSE)),\"\")","v":""},{"$f":"IFERROR((VLOOKUP(B92,#REF!,4,FALSE)),\"\")","v":""},{"$f":"IFERROR((VLOOKUP(B92,#REF!,6,FALSE)),\"\")","v":""},{"$f":"IFERROR((VLOOKUP(B92,#REF!,8,FALSE)),\"\")","v":""},{"$f":"IFERROR((VLOOKUP(B92,#REF!,7,FALSE)),\"\")","v":""},null,{"$f":"IF(B92=\"\",\"\",H92+I92)","v":""},{"$f":"IF(B92>0,\"100\",\"\")","v":""}]
[{"$f":"IF(J93=\"\",\"\",RANK(J93,$J$92:$J$111,1))","v":""},null,{"$f":"IFERROR((VLOOKUP(B93,#REF!,2,FALSE)),\"\")","v":""},{"$f":"IFERROR((VLOOKUP(B93,#REF!,3,FALSE)),\"\")","v":""},{"$f":"IFERROR((VLOOKUP(B93,#REF!,4,FALSE)),\"\")","v":""},{"$f":"IFERROR((VLOOKUP(B93,#REF!,6,FALSE)),\"\")","v":""},{"$f":"IFERROR((VLOOKUP(B93,#REF!,8,FALSE)),\"\")","v":""},{"$f":"IFERROR((VLOOKUP(B93,#REF!,7,FALSE)),\"\")","v":""},null,{"$f":"IF(B93=\"\",\"\",H93+I93)","v":""},{"$f":"IF(B93>0,K92-1,\"\")","v":""}]
["",null,{"$f":"IFERROR((VLOOKUP(B94,#REF!,2,FALSE)),\"\")","v":""},{"$f":"IFERROR((VLOOKUP(B94,#REF!,3,FALSE)),\"\")","v":""},{"$f":"IFERROR((VLOOKUP(B94,#REF!,4,FALSE)),\"\")","v":""},{"$f":"IFERROR((VLOOKUP(B94,#REF!,6,FALSE)),\"\")","v":""},{"$f":"IFERROR((VLOOKUP(B94,#REF!,8,FALSE)),\"\")","v":""},{"$f":"IFERROR((VLOOKUP(B94,#REF!,7,FALSE)),\"\")","v":""},null,{"$f":"IF(B94=\"\",\"\",H94+I94)","v":""},{"$f":"IF(B94>0,K93-1,\"\")","v":""}]
["",null,{"$f":"IFERROR((VLOOKUP(B95,#REF!,2,FALSE)),\"\")","v":""},{"$f":"IFERROR((VLOOKUP(B95,#REF!,3,FALSE)),\"\")","v":""},{"$f":"IFERROR((VLOOKUP(B95,#REF!,4,FALSE)),\"\")","v":""},{"$f":"IFERROR((VLOOKUP(B95,#REF!,6,FALSE)),\"\")","v":""},{"$f":"IFERROR((VLOOKUP(B95,#REF!,8,FALSE)),\"\")","v":""},{"$f":"IFERROR((VLOOKUP(B95,#REF!,7,FALSE)),\"\")","v":""},null,"",""]
["",null,{"$f":"IFERROR((VLOOKUP(B96,#REF!,2,FALSE)),\"\")","v":""},{"$f":"IFERROR((VLOOKUP(B96,#REF!,3,FALSE)),\"\")","v":""},{"$f":"IFERROR((VLOOKUP(B96,#REF!,4,FALSE)),\"\")","v":""},{"$f":"IFERROR((VLOOKUP(B96,#REF!,6,FALSE)),\"\")","v":""},{"$f":"IFERROR((VLOOKUP(B96,#REF!,8,FALSE)),\"\")","v":""},{"$f":"IFERROR((VLOOKUP(B96,#REF!,7,FALSE)),\"\")","v":""},null,"",""]
["",null,{"$f":"IFERROR((VLOOKUP(B97,#REF!,2,FALSE)),\"\")","v":""},{"$f":"IFERROR((VLOOKUP(B97,#REF!,3,FALSE)),\"\")","v":""},{"$f":"IFERROR((VLOOKUP(B97,#REF!,4,FALSE)),\"\")","v":""},{"$f":"IFERROR((VLOOKUP(B97,#REF!,6,FALSE)),\"\")","v":""},{"$f":"IFERROR((VLOOKUP(B97,#REF!,8,FALSE)),\"\")","v":""},{"$f":"IFERROR((VLOOKUP(B97,#REF!,7,FALSE)),\"\")","v":""},null,"",""]
["",null,{"$f":"IFERROR((VLOOKUP(B98,#REF!,2,FALSE)),\"\")","v":""},{"$f":"IFERROR((VLOOKUP(B98,#REF!,3,FALSE)),\"\")","v":""},{"$f":"IFERROR((VLOOKUP(B98,#REF!,4,FALSE)),\"\")","v":""},{"$f":"IFERROR((VLOOKUP(B98,#REF!,6,FALSE)),\"\")","v":""},{"$f":"IFERROR((VLOOKUP(B98,#REF!,8,FALSE)),\"\")","v":""},{"$f":"IFERROR((VLOOKUP(B98,#REF!,7,FALSE)),\"\")","v":""},null,"",""]
["",null,{"$f":"IFERROR((VLOOKUP(B99,#REF!,2,FALSE)),\"\")","v":""},{"$f":"IFERROR((VLOOKUP(B99,#REF!,3,FALSE)),\"\")","v":""},{"$f":"IFERROR((VLOOKUP(B99,#REF!,4,FALSE)),\"\")","v":""},{"$f":"IFERROR((VLOOKUP(B99,#REF!,6,FALSE)),\"\")","v":""},{"$f":"IFERROR((VLOOKUP(B99,#REF!,8,FALSE)),\"\")","v":""},{"$f":"IFERROR((VLOOKUP(B99,#REF!,7,FALSE)),\"\")","v":""},null,"",""]
["",null,{"$f":"IFERROR((VLOOKUP(B100,#REF!,2,FALSE)),\"\")","v":""},{"$f":"IFERROR((VLOOKUP(B100,#REF!,3,FALSE)),\"\")","v":""},{"$f":"IFERROR((VLOOKUP(B100,#REF!,4,FALSE)),\"\")","v":""},{"$f":"IFERROR((VLOOKUP(B100,#REF!,6,FALSE)),\"\")","v":""},{"$f":"IFERROR((VLOOKUP(B100,#REF!,8,FALSE)),\"\")","v":""},{"$f":"IFERROR((VLOOKUP(B100,#REF!,7,FALSE)),\"\")","v":""},null,"",""]
["",null,{"$f":"IFERROR((VLOOKUP(B101,#REF!,2,FALSE)),\"\")","v":""},{"$f":"IFERROR((VLOOKUP(B101,#REF!,3,FALSE)),\"\")","v":""},{"$f":"IFERROR((VLOOKUP(B101,#REF!,4,FALSE)),\"\")","v":""},{"$f":"IFERROR((VLOOKUP(B101,#REF!,6,FALSE)),\"\")","v":""},{"$f":"IFERROR((VLOOKUP(B101,#REF!,8,FALSE)),\"\")","v":""},{"$f":"IFERROR((VLOOKUP(B101,#REF!,7,FALSE)),\"\")","v":""},null,"",""]
["",null,{"$f":"IFERROR((VLOOKUP(B102,#REF!,2,FALSE)),\"\")","v":""},{"$f":"IFERROR((VLOOKUP(B102,#REF!,3,FALSE)),\"\")","v":""},{"$f":"IFERROR((VLOOKUP(B102,#REF!,4,FALSE)),\"\")","v":""},{"$f":"IFERROR((VLOOKUP(B102,#REF!,6,FALSE)),\"\")","v":""},{"$f":"IFERROR((VLOOKUP(B102,#REF!,8,FALSE)),\"\")","v":""},{"$f":"IFERROR((VLOOKUP(B102,#REF!,7,FALSE)),\"\")","v":""},null,"",""]
["",null,{"$f":"IFERROR((VLOOKUP(B103,#REF!,2,FALSE)),\"\")","v":""},{"$f":"IFERROR((VLOOKUP(B103,#REF!,3,FALSE)),\"\")","v":""},{"$f":"IFERROR((VLOOKUP(B103,#REF!,4,FALSE)),\"\")","v":""},{"$f":"IFERROR((VLOOKUP(B103,#REF!,6,FALSE)),\"\")","v":""},{"$f":"IFERROR((VLOOKUP(B103,#REF!,8,FALSE)),\"\")","v":""},{"$f":"IFERROR((VLOOKUP(B103,#REF!,7,FALSE)),\"\")","v":""},null,"",""]
["",null,{"$f":"IFERROR((VLOOKUP(B104,#REF!,2,FALSE)),\"\")","v":""},{"$f":"IFERROR((VLOOKUP(B104,#REF!,3,FALSE)),\"\")","v":""},{"$f":"IFERROR((VLOOKUP(B104,#REF!,4,FALSE)),\"\")","v":""},{"$f":"IFERROR((VLOOKUP(B104,#REF!,6,FALSE)),\"\")","v":""},{"$f":"IFERROR((VLOOKUP(B104,#REF!,8,FALSE)),\"\")","v":""},{"$f":"IFERROR((VLOOKUP(B104,#REF!,7,FALSE)),\"\")","v":""},null,"",""]
["",null,{"$f":"IFERROR((VLOOKUP(B105,#REF!,2,FALSE)),\"\")","v":""},{"$f":"IFERROR((VLOOKUP(B105,#REF!,3,FALSE)),\"\")","v":""},{"$f":"IFERROR((VLOOKUP(B105,#REF!,4,FALSE)),\"\")","v":""},{"$f":"IFERROR((VLOOKUP(B105,#REF!,6,FALSE)),\"\")","v":""},{"$f":"IFERROR((VLOOKUP(B105,#REF!,8,FALSE)),\"\")","v":""},{"$f":"IFERROR((VLOOKUP(B105,#REF!,7,FALSE)),\"\")","v":""},null,"",""]
["",null,{"$f":"IFERROR((VLOOKUP(B106,#REF!,2,FALSE)),\"\")","v":""},{"$f":"IFERROR((VLOOKUP(B106,#REF!,3,FALSE)),\"\")","v":""},{"$f":"IFERROR((VLOOKUP(B106,#REF!,4,FALSE)),\"\")","v":""},{"$f":"IFERROR((VLOOKUP(B106,#REF!,6,FALSE)),\"\")","v":""},{"$f":"IFERROR((VLOOKUP(B106,#REF!,8,FALSE)),\"\")","v":""},{"$f":"IFERROR((VLOOKUP(B106,#REF!,7,FALSE)),\"\")","v":""},null,"",""]
["",null,{"$f":"IFERROR((VLOOKUP(B107,#REF!,2,FALSE)),\"\")","v":""},{"$f":"IFERROR((VLOOKUP(B107,#REF!,3,FALSE)),\"\")","v":""},{"$f":"IFERROR((VLOOKUP(B107,#REF!,4,FALSE)),\"\")","v":""},{"$f":"IFERROR((VLOOKUP(B107,#REF!,6,FALSE)),\"\")","v":""},{"$f":"IFERROR((VLOOKUP(B107,#REF!,8,FALSE)),\"\")","v":""},{"$f":"IFERROR((VLOOKUP(B107,#REF!,7,FALSE)),\"\")","v":""},null,"",""]
["",null,{"$f":"IFERROR((VLOOKUP(B108,#REF!,2,FALSE)),\"\")","v":""},{"$f":"IFERROR((VLOOKUP(B108,#REF!,3,FALSE)),\"\")","v":""},{"$f":"IFERROR((VLOOKUP(B108,#REF!,4,FALSE)),\"\")","v":""},{"$f":"IFERROR((VLOOKUP(B108,#REF!,6,FALSE)),\"\")","v":""},{"$f":"IFERROR((VLOOKUP(B108,#REF!,8,FALSE)),\"\")","v":""},{"$f":"IFERROR((VLOOKUP(B108,#REF!,7,FALSE)),\"\")","v":""},null,"",""]
["",null,{"$f":"IFERROR((VLOOKUP(B109,#REF!,2,FALSE)),\"\")","v":""},{"$f":"IFERROR((VLOOKUP(B109,#REF!,3,FALSE)),\"\")","v":""},{"$f":"IFERROR((VLOOKUP(B109,#REF!,4,FALSE)),\"\")","v":""},{"$f":"IFERROR((VLOOKUP(B109,#REF!,6,FALSE)),\"\")","v":""},{"$f":"IFERROR((VLOOKUP(B109,#REF!,8,FALSE)),\"\")","v":""},{"$f":"IFERROR((VLOOKUP(B109,#REF!,7,FALSE)),\"\")","v":""},null,"",""]
["",null,{"$f":"IFERROR((VLOOKUP(B110,#REF!,2,FALSE)),\"\")","v":""},{"$f":"IFERROR((VLOOKUP(B110,#REF!,3,FALSE)),\"\")","v":""},{"$f":"IFERROR((VLOOKUP(B110,#REF!,4,FALSE)),\"\")","v":""},{"$f":"IFERROR((VLOOKUP(B110,#REF!,6,FALSE)),\"\")","v":""},{"$f":"IFERROR((VLOOKUP(B110,#REF!,8,FALSE)),\"\")","v":""},{"$f":"IFERROR((VLOOKUP(B110,#REF!,7,FALSE)),\"\")","v":""},null,"",""]
["",null,{"$f":"IFERROR((VLOOKUP(B111,#REF!,2,FALSE)),\"\")","v":""},{"$f":"IFERROR((VLOOKUP(B111,#REF!,3,FALSE)),\"\")","v":""},{"$f":"IFERROR((VLOOKUP(B111,#REF!,4,FALSE)),\"\")","v":""},{"$f":"IFERROR((VLOOKUP(B111,#REF!,6,FALSE)),\"\")","v":""},{"$f":"IFERROR((VLOOKUP(B111,#REF!,8,FALSE)),\"\")","v":""},{"$f":"IFERROR((VLOOKUP(B111,#REF!,7,FALSE)),\"\")","v":""},null,"",""]
[]
["INICIADOS MASCULINOS"]
[]
["Pos","Dorsal ","Licença","Escalão","Nome","Género","Clube","Tempo Natação","Tempo Corrida","Tempo Final","Pontos"]
[{"$f":"IF(J116=\"\",\"\",RANK(J116,$J$116:$J$135,1))","v":""},null,{"$f":"IFERROR((VLOOKUP(B116,#REF!,2,FALSE)),\"\")","v":""},{"$f":"IFERROR((VLOOKUP(B116,#REF!,3,FALSE)),\"\")","v":""},{"$f":"IFERROR((VLOOKUP(B116,#REF!,4,FALSE)),\"\")","v":""},{"$f":"IFERROR((VLOOKUP(B116,#REF!,6,FALSE)),\"\")","v":""},{"$f":"IFERROR((VLOOKUP(B116,#REF!,8,FALSE)),\"\")","v":""},{"$f":"IFERROR((VLOOKUP(B116,#REF!,7,FALSE)),\"\")","v":""},null,{"$f":"IF(B116=\"\",\"\",H116+I116)","v":""},{"$f":"IF(B116>0,\"100\",\"\")","v":""}]
[{"$f":"IF(J117=\"\",\"\",RANK(J117,$J$116:$J$135,1))","v":""},null,{"$f":"IFERROR((VLOOKUP(B117,#REF!,2,FALSE)),\"\")","v":""},{"$f":"IFERROR((VLOOKUP(B117,#REF!,3,FALSE)),\"\")","v":""},{"$f":"IFERROR((VLOOKUP(B117,#REF!,4,FALSE)),\"\")","v":""},{"$f":"IFERROR((VLOOKUP(B117,#REF!,6,FALSE)),\"\")","v":""},{"$f":"IFERROR((VLOOKUP(B117,#REF!,8,FALSE)),\"\")","v":""},{"$f":"IFERROR((VLOOKUP(B117,#REF!,7,FALSE)),\"\")","v":""},null,{"$f":"IF(B117=\"\",\"\",H117+I117)","v":""},{"$f":"IF(B117>0,K116-1,\"\")","v":""}]
["",null,{"$f":"IFERROR((VLOOKUP(B118,#REF!,2,FALSE)),\"\")","v":""},{"$f":"IFERROR((VLOOKUP(B118,#REF!,3,FALSE)),\"\")","v":""},{"$f":"IFERROR((VLOOKUP(B118,#REF!,4,FALSE)),\"\")","v":""},{"$f":"IFERROR((VLOOKUP(B118,#REF!,6,FALSE)),\"\")","v":""},{"$f":"IFERROR((VLOOKUP(B118,#REF!,8,FALSE)),\"\")","v":""},{"$f":"IFERROR((VLOOKUP(B118,#REF!,7,FALSE)),\"\")","v":""},null,{"$f":"IF(B118=\"\",\"\",H118+I118)","v":""},{"$f":"IF(B118>0,K117-1,\"\")","v":""}]
["",null,{"$f":"IFERROR((VLOOKUP(B119,#REF!,2,FALSE)),\"\")","v":""},{"$f":"IFERROR((VLOOKUP(B119,#REF!,3,FALSE)),\"\")","v":""},{"$f":"IFERROR((VLOOKUP(B119,#REF!,4,FALSE)),\"\")","v":""},{"$f":"IFERROR((VLOOKUP(B119,#REF!,6,FALSE)),\"\")","v":""},{"$f":"IFERROR((VLOOKUP(B119,#REF!,8,FALSE)),\"\")","v":""},{"$f":"IFERROR((VLOOKUP(B119,#REF!,7,FALSE)),\"\")","v":""},null,"",""]
["",null,{"$f":"IFERROR((VLOOKUP(B120,#REF!,2,FALSE)),\"\")","v":""},{"$f":"IFERROR((VLOOKUP(B120,#REF!,3,FALSE)),\"\")","v":""},{"$f":"IFERROR((VLOOKUP(B120,#REF!,4,FALSE)),\"\")","v":""},{"$f":"IFERROR((VLOOKUP(B120,#REF!,6,FALSE)),\"\")","v":""},{"$f":"IFERROR((VLOOKUP(B120,#REF!,8,FALSE)),\"\")","v":""},{"$f":"IFERROR((VLOOKUP(B120,#REF!,7,FALSE)),\"\")","v":""},null,"",""]
["",null,{"$f":"IFERROR((VLOOKUP(B121,#REF!,2,FALSE)),\"\")","v":""},{"$f":"IFERROR((VLOOKUP(B121,#REF!,3,FALSE)),\"\")","v":""},{"$f":"IFERROR((VLOOKUP(B121,#REF!,4,FALSE)),\"\")","v":""},{"$f":"IFERROR((VLOOKUP(B121,#REF!,6,FALSE)),\"\")","v":""},{"$f":"IFERROR((VLOOKUP(B121,#REF!,8,FALSE)),\"\")","v":""},{"$f":"IFERROR((VLOOKUP(B121,#REF!,7,FALSE)),\"\")","v":""},null,"",""]
["",null,{"$f":"IFERROR((VLOOKUP(B122,#REF!,2,FALSE)),\"\")","v":""},{"$f":"IFERROR((VLOOKUP(B122,#REF!,3,FALSE)),\"\")","v":""},{"$f":"IFERROR((VLOOKUP(B122,#REF!,4,FALSE)),\"\")","v":""},{"$f":"IFERROR((VLOOKUP(B122,#REF!,6,FALSE)),\"\")","v":""},{"$f":"IFERROR((VLOOKUP(B122,#REF!,8,FALSE)),\"\")","v":""},{"$f":"IFERROR((VLOOKUP(B122,#REF!,7,FALSE)),\"\")","v":""},null,"",""]
["",null,{"$f":"IFERROR((VLOOKUP(B123,#REF!,2,FALSE)),\"\")","v":""},{"$f":"IFERROR((VLOOKUP(B123,#REF!,3,FALSE)),\"\")","v":""},{"$f":"IFERROR((VLOOKUP(B123,#REF!,4,FALSE)),\"\")","v":""},{"$f":"IFERROR((VLOOKUP(B123,#REF!,6,FALSE)),\"\")","v":""},{"$f":"IFERROR((VLOOKUP(B123,#REF!,8,FALSE)),\"\")","v":""},{"$f":"IFERROR((VLOOKUP(B123,#REF!,7,FALSE)),\"\")","v":""},null,"",""]
["",null,{"$f":"IFERROR((VLOOKUP(B124,#REF!,2,FALSE)),\"\")","v":""},{"$f":"IFERROR((VLOOKUP(B124,#REF!,3,FALSE)),\"\")","v":""},{"$f":"IFERROR((VLOOKUP(B124,#REF!,4,FALSE)),\"\")","v":""},{"$f":"IFERROR((VLOOKUP(B124,#REF!,6,FALSE)),\"\")","v":""},{"$f":"IFERROR((VLOOKUP(B124,#REF!,8,FALSE)),\"\")","v":""},{"$f":"IFERROR((VLOOKUP(B124,#REF!,7,FALSE)),\"\")","v":""},null,"",""]
["",null,{"$f":"IFERROR((VLOOKUP(B125,#REF!,2,FALSE)),\"\")","v":""},{"$f":"IFERROR((VLOOKUP(B125,#REF!,3,FALSE)),\"\")","v":""},{"$f":"IFERROR((VLOOKUP(B125,#REF!,4,FALSE)),\"\")","v":""},{"$f":"IFERROR((VLOOKUP(B125,#REF!,6,FALSE)),\"\")","v":""},{"$f":"IFERROR((VLOOKUP(B125,#REF!,8,FALSE)),\"\")","v":""},{"$f":"IFERROR((VLOOKUP(B125,#REF!,7,FALSE)),\"\")","v":""},null,"",""]
["",null,{"$f":"IFERROR((VLOOKUP(B126,#REF!,2,FALSE)),\"\")","v":""},{"$f":"IFERROR((VLOOKUP(B126,#REF!,3,FALSE)),\"\")","v":""},{"$f":"IFERROR((VLOOKUP(B126,#REF!,4,FALSE)),\"\")","v":""},{"$f":"IFERROR((VLOOKUP(B126,#REF!,6,FALSE)),\"\")","v":""},{"$f":"IFERROR((VLOOKUP(B126,#REF!,8,FALSE)),\"\")","v":""},{"$f":"IFERROR((VLOOKUP(B126,#REF!,7,FALSE)),\"\")","v":""},null,"",""]
["",null,{"$f":"IFERROR((VLOOKUP(B127,#REF!,2,FALSE)),\"\")","v":""},{"$f":"IFERROR((VLOOKUP(B127,#REF!,3,FALSE)),\"\")","v":""},{"$f":"IFERROR((VLOOKUP(B127,#REF!,4,FALSE)),\"\")","v":""},{"$f":"IFERROR((VLOOKUP(B127,#REF!,6,FALSE)),\"\")","v":""},{"$f":"IFERROR((VLOOKUP(B127,#REF!,8,FALSE)),\"\")","v":""},{"$f":"IFERROR((VLOOKUP(B127,#REF!,7,FALSE)),\"\")","v":""},null,"",""]
["",null,{"$f":"IFERROR((VLOOKUP(B128,#REF!,2,FALSE)),\"\")","v":""},{"$f":"IFERROR((VLOOKUP(B128,#REF!,3,FALSE)),\"\")","v":""},{"$f":"IFERROR((VLOOKUP(B128,#REF!,4,FALSE)),\"\")","v":""},{"$f":"IFERROR((VLOOKUP(B128,#REF!,6,FALSE)),\"\")","v":""},{"$f":"IFERROR((VLOOKUP(B128,#REF!,8,FALSE)),\"\")","v":""},{"$f":"IFERROR((VLOOKUP(B128,#REF!,7,FALSE)),\"\")","v":""},null,"",""]
["",null,{"$f":"IFERROR((VLOOKUP(B129,#REF!,2,FALSE)),\"\")","v":""},{"$f":"IFERROR((VLOOKUP(B129,#REF!,3,FALSE)),\"\")","v":""},{"$f":"IFERROR((VLOOKUP(B129,#REF!,4,FALSE)),\"\")","v":""},{"$f":"IFERROR((VLOOKUP(B129,#REF!,6,FALSE)),\"\")","v":""},{"$f":"IFERROR((VLOOKUP(B129,#REF!,8,FALSE)),\"\")","v":""},{"$f":"IFERROR((VLOOKUP(B129,#REF!,7,FALSE)),\"\")","v":""},null,"",""]
["",null,{"$f":"IFERROR((VLOOKUP(B130,#REF!,2,FALSE)),\"\")","v":""},{"$f":"IFERROR((VLOOKUP(B130,#REF!,3,FALSE)),\"\")","v":""},{"$f":"IFERROR((VLOOKUP(B130,#REF!,4,FALSE)),\"\")","v":""},{"$f":"IFERROR((VLOOKUP(B130,#REF!,6,FALSE)),\"\")","v":""},{"$f":"IFERROR((VLOOKUP(B130,#REF!,8,FALSE)),\"\")","v":""},{"$f":"IFERROR((VLOOKUP(B130,#REF!,7,FALSE)),\"\")","v":""},null,"",""]
["",null,{"$f":"IFERROR((VLOOKUP(B131,#REF!,2,FALSE)),\"\")","v":""},{"$f":"IFERROR((VLOOKUP(B131,#REF!,3,FALSE)),\"\")","v":""},{"$f":"IFERROR((VLOOKUP(B131,#REF!,4,FALSE)),\"\")","v":""},{"$f":"IFERROR((VLOOKUP(B131,#REF!,6,FALSE)),\"\")","v":""},{"$f":"IFERROR((VLOOKUP(B131,#REF!,8,FALSE)),\"\")","v":""},{"$f":"IFERROR((VLOOKUP(B131,#REF!,7,FALSE)),\"\")","v":""},null,"",""]
["",null,{"$f":"IFERROR((VLOOKUP(B132,#REF!,2,FALSE)),\"\")","v":""},{"$f":"IFERROR((VLOOKUP(B132,#REF!,3,FALSE)),\"\")","v":""},{"$f":"IFERROR((VLOOKUP(B132,#REF!,4,FALSE)),\"\")","v":""},{"$f":"IFERROR((VLOOKUP(B132,#REF!,6,FALSE)),\"\")","v":""},{"$f":"IFERROR((VLOOKUP(B132,#REF!,8,FALSE)),\"\")","v":""},{"$f":"IFERROR((VLOOKUP(B132,#REF!,7,FALSE)),\"\")","v":""},null,"",""]
["",null,{"$f":"IFERROR((VLOOKUP(B133,#REF!,2,FALSE)),\"\")","v":""},{"$f":"IFERROR((VLOOKUP(B133,#REF!,3,FALSE)),\"\")","v":""},{"$f":"IFERROR((VLOOKUP(B133,#REF!,4,FALSE)),\"\")","v":""},{"$f":"IFERROR((VLOOKUP(B133,#REF!,6,FALSE)),\"\")","v":""},{"$f":"IFERROR((VLOOKUP(B133,#REF!,8,FALSE)),\"\")","v":""},{"$f":"IFERROR((VLOOKUP(B133,#REF!,7,FALSE)),\"\")","v":""},null,"",""]
["",null,{"$f":"IFERROR((VLOOKUP(B134,#REF!,2,FALSE)),\"\")","v":""},{"$f":"IFERROR((VLOOKUP(B134,#REF!,3,FALSE)),\"\")","v":""},{"$f":"IFERROR((VLOOKUP(B134,#REF!,4,FALSE)),\"\")","v":""},{"$f":"IFERROR((VLOOKUP(B134,#REF!,6,FALSE)),\"\")","v":""},{"$f":"IFERROR((VLOOKUP(B134,#REF!,8,FALSE)),\"\")","v":""},{"$f":"IFERROR((VLOOKUP(B134,#REF!,7,FALSE)),\"\")","v":""},null,"",""]
["",null,{"$f":"IFERROR((VLOOKUP(B135,#REF!,2,FALSE)),\"\")","v":""},{"$f":"IFERROR((VLOOKUP(B135,#REF!,3,FALSE)),\"\")","v":""},{"$f":"IFERROR((VLOOKUP(B135,#REF!,4,FALSE)),\"\")","v":""},{"$f":"IFERROR((VLOOKUP(B135,#REF!,6,FALSE)),\"\")","v":""},{"$f":"IFERROR((VLOOKUP(B135,#REF!,8,FALSE)),\"\")","v":""},{"$f":"IFERROR((VLOOKUP(B135,#REF!,7,FALSE)),\"\")","v":""},null,"",""]
[]
["INICIADOS FEMININOS"]
[]
["Pos","Dorsal ","Licença","Escalão","Nome","Género","Clube","Tempo Natação","Tempo Corrida","Tempo Final","Pontos"]
[{"$f":"IF(J140=\"\",\"\",RANK(J140,$J$140:$J$159,1))","v":""},null,{"$f":"IFERROR((VLOOKUP(B140,#REF!,2,FALSE)),\"\")","v":""},{"$f":"IFERROR((VLOOKUP(B140,#REF!,3,FALSE)),\"\")","v":""},{"$f":"IFERROR((VLOOKUP(B140,#REF!,4,FALSE)),\"\")","v":""},{"$f":"IFERROR((VLOOKUP(B140,#REF!,6,FALSE)),\"\")","v":""},{"$f":"IFERROR((VLOOKUP(B140,#REF!,8,FALSE)),\"\")","v":""},{"$f":"IFERROR((VLOOKUP(B140,#REF!,7,FALSE)),\"\")","v":""},null,{"$f":"IF(B140=\"\",\"\",H140+I140)","v":""},{"$f":"IF(B140>0,\"100\",\"\")","v":""}]
[{"$f":"IF(J141=\"\",\"\",RANK(J141,$J$140:$J$159,1))","v":""},null,{"$f":"IFERROR((VLOOKUP(B141,#REF!,2,FALSE)),\"\")","v":""},{"$f":"IFERROR((VLOOKUP(B141,#REF!,3,FALSE)),\"\")","v":""},{"$f":"IFERROR((VLOOKUP(B141,#REF!,4,FALSE)),\"\")","v":""},{"$f":"IFERROR((VLOOKUP(B141,#REF!,6,FALSE)),\"\")","v":""},{"$f":"IFERROR((VLOOKUP(B141,#REF!,8,FALSE)),\"\")","v":""},{"$f":"IFERROR((VLOOKUP(B141,#REF!,7,FALSE)),\"\")","v":""},null,{"$f":"IF(B141=\"\",\"\",H141+I141)","v":""},{"$f":"IF(B141>0,K140-1,\"\")","v":""}]
["",null,{"$f":"IFERROR((VLOOKUP(B142,#REF!,2,FALSE)),\"\")","v":""},{"$f":"IFERROR((VLOOKUP(B142,#REF!,3,FALSE)),\"\")","v":""},{"$f":"IFERROR((VLOOKUP(B142,#REF!,4,FALSE)),\"\")","v":""},{"$f":"IFERROR((VLOOKUP(B142,#REF!,6,FALSE)),\"\")","v":""},{"$f":"IFERROR((VLOOKUP(B142,#REF!,8,FALSE)),\"\")","v":""},{"$f":"IFERROR((VLOOKUP(B142,#REF!,7,FALSE)),\"\")","v":""},null,{"$f":"IF(B142=\"\",\"\",H142+I142)","v":""},{"$f":"IF(B142>0,K141-1,\"\")","v":""}]
["",null,{"$f":"IFERROR((VLOOKUP(B143,#REF!,2,FALSE)),\"\")","v":""},{"$f":"IFERROR((VLOOKUP(B143,#REF!,3,FALSE)),\"\")","v":""},{"$f":"IFERROR((VLOOKUP(B143,#REF!,4,FALSE)),\"\")","v":""},{"$f":"IFERROR((VLOOKUP(B143,#REF!,6,FALSE)),\"\")","v":""},{"$f":"IFERROR((VLOOKUP(B143,#REF!,8,FALSE)),\"\")","v":""},{"$f":"IFERROR((VLOOKUP(B143,#REF!,7,FALSE)),\"\")","v":""},null,"",""]
["",null,{"$f":"IFERROR((VLOOKUP(B144,#REF!,2,FALSE)),\"\")","v":""},{"$f":"IFERROR((VLOOKUP(B144,#REF!,3,FALSE)),\"\")","v":""},{"$f":"IFERROR((VLOOKUP(B144,#REF!,4,FALSE)),\"\")","v":""},{"$f":"IFERROR((VLOOKUP(B144,#REF!,6,FALSE)),\"\")","v":""},{"$f":"IFERROR((VLOOKUP(B144,#REF!,8,FALSE)),\"\")","v":""},{"$f":"IFERROR((VLOOKUP(B144,#REF!,7,FALSE)),\"\")","v":""},null,"",""]
["",null,{"$f":"IFERROR((VLOOKUP(B145,#REF!,2,FALSE)),\"\")","v":""},{"$f":"IFERROR((VLOOKUP(B145,#REF!,3,FALSE)),\"\")","v":""},{"$f":"IFERROR((VLOOKUP(B145,#REF!,4,FALSE)),\"\")","v":""},{"$f":"IFERROR((VLOOKUP(B145,#REF!,6,FALSE)),\"\")","v":""},{"$f":"IFERROR((VLOOKUP(B145,#REF!,8,FALSE)),\"\")","v":""},{"$f":"IFERROR((VLOOKUP(B145,#REF!,7,FALSE)),\"\")","v":""},null,"",""]
["",null,{"$f":"IFERROR((VLOOKUP(B146,#REF!,2,FALSE)),\"\")","v":""},{"$f":"IFERROR((VLOOKUP(B146,#REF!,3,FALSE)),\"\")","v":""},{"$f":"IFERROR((VLOOKUP(B146,#REF!,4,FALSE)),\"\")","v":""},{"$f":"IFERROR((VLOOKUP(B146,#REF!,6,FALSE)),\"\")","v":""},{"$f":"IFERROR((VLOOKUP(B146,#REF!,8,FALSE)),\"\")","v":""},{"$f":"IFERROR((VLOOKUP(B146,#REF!,7,FALSE)),\"\")","v":""},null,"",""]
["",null,{"$f":"IFERROR((VLOOKUP(B147,#REF!,2,FALSE)),\"\")","v":""},{"$f":"IFERROR((VLOOKUP(B147,#REF!,3,FALSE)),\"\")","v":""},{"$f":"IFERROR((VLOOKUP(B147,#REF!,4,FALSE)),\"\")","v":""},{"$f":"IFERROR((VLOOKUP(B147,#REF!,6,FALSE)),\"\")","v":""},{"$f":"IFERROR((VLOOKUP(B147,#REF!,8,FALSE)),\"\")","v":""},{"$f":"IFERROR((VLOOKUP(B147,#REF!,7,FALSE)),\"\")","v":""},null,"",""]
["",null,{"$f":"IFERROR((VLOOKUP(B148,#REF!,2,FALSE)),\"\")","v":""},{"$f":"IFERROR((VLOOKUP(B148,#REF!,3,FALSE)),\"\")","v":""},{"$f":"IFERROR((VLOOKUP(B148,#REF!,4,FALSE)),\"\")","v":""},{"$f":"IFERROR((VLOOKUP(B148,#REF!,6,FALSE)),\"\")","v":""},{"$f":"IFERROR((VLOOKUP(B148,#REF!,8,FALSE)),\"\")","v":""},{"$f":"IFERROR((VLOOKUP(B148,#REF!,7,FALSE)),\"\")","v":""},null,"",""]
["",null,{"$f":"IFERROR((VLOOKUP(B149,#REF!,2,FALSE)),\"\")","v":""},{"$f":"IFERROR((VLOOKUP(B149,#REF!,3,FALSE)),\"\")","v":""},{"$f":"IFERROR((VLOOKUP(B149,#REF!,4,FALSE)),\"\")","v":""},{"$f":"IFERROR((VLOOKUP(B149,#REF!,6,FALSE)),\"\")","v":""},{"$f":"IFERROR((VLOOKUP(B149,#REF!,8,FALSE)),\"\")","v":""},{"$f":"IFERROR((VLOOKUP(B149,#REF!,7,FALSE)),\"\")","v":""},null,"",""]
["",null,{"$f":"IFERROR((VLOOKUP(B150,#REF!,2,FALSE)),\"\")","v":""},{"$f":"IFERROR((VLOOKUP(B150,#REF!,3,FALSE)),\"\")","v":""},{"$f":"IFERROR((VLOOKUP(B150,#REF!,4,FALSE)),\"\")","v":""},{"$f":"IFERROR((VLOOKUP(B150,#REF!,6,FALSE)),\"\")","v":""},{"$f":"IFERROR((VLOOKUP(B150,#REF!,8,FALSE)),\"\")","v":""},{"$f":"IFERROR((VLOOKUP(B150,#REF!,7,FALSE)),\"\")","v":""},null,"",""]
["",null,{"$f":"IFERROR((VLOOKUP(B151,#REF!,2,FALSE)),\"\")","v":""},{"$f":"IFERROR((VLOOKUP(B151,#REF!,3,FALSE)),\"\")","v":""},{"$f":"IFERROR((VLOOKUP(B151,#REF!,4,FALSE)),\"\")","v":""},{"$f":"IFERROR((VLOOKUP(B151,#REF!,6,FALSE)),\"\")","v":""},{"$f":"IFERROR((VLOOKUP(B151,#REF!,8,FALSE)),\"\")","v":""},{"$f":"IFERROR((VLOOKUP(B151,#REF!,7,FALSE)),\"\")","v":""},null,"",""]
["",null,{"$f":"IFERROR((VLOOKUP(B152,#REF!,2,FALSE)),\"\")","v":""},{"$f":"IFERROR((VLOOKUP(B152,#REF!,3,FALSE)),\"\")","v":""},{"$f":"IFERROR((VLOOKUP(B152,#REF!,4,FALSE)),\"\")","v":""},{"$f":"IFERROR((VLOOKUP(B152,#REF!,6,FALSE)),\"\")","v":""},{"$f":"IFERROR((VLOOKUP(B152,#REF!,8,FALSE)),\"\")","v":""},{"$f":"IFERROR((VLOOKUP(B152,#REF!,7,FALSE)),\"\")","v":""},null,"",""]
["",null,{"$f":"IFERROR((VLOOKUP(B153,#REF!,2,FALSE)),\"\")","v":""},{"$f":"IFERROR((VLOOKUP(B153,#REF!,3,FALSE)),\"\")","v":""},{"$f":"IFERROR((VLOOKUP(B153,#REF!,4,FALSE)),\"\")","v":""},{"$f":"IFERROR((VLOOKUP(B153,#REF!,6,FALSE)),\"\")","v":""},{"$f":"IFERROR((VLOOKUP(B153,#REF!,8,FALSE)),\"\")","v":""},{"$f":"IFERROR((VLOOKUP(B153,#REF!,7,FALSE)),\"\")","v":""},null,"",""]
["",null,{"$f":"IFERROR((VLOOKUP(B154,#REF!,2,FALSE)),\"\")","v":""},{"$f":"IFERROR((VLOOKUP(B154,#REF!,3,FALSE)),\"\")","v":""},{"$f":"IFERROR((VLOOKUP(B154,#REF!,4,FALSE)),\"\")","v":""},{"$f":"IFERROR((VLOOKUP(B154,#REF!,6,FALSE)),\"\")","v":""},{"$f":"IFERROR((VLOOKUP(B154,#REF!,8,FALSE)),\"\")","v":""},{"$f":"IFERROR((VLOOKUP(B154,#REF!,7,FALSE)),\"\")","v":""},null,"",""]
["",null,{"$f":"IFERROR((VLOOKUP(B155,#REF!,2,FALSE)),\"\")","v":""},{"$f":"IFERROR((VLOOKUP(B155,#REF!,3,FALSE)),\"\")","v":""},{"$f":"IFERROR((VLOOKUP(B155,#REF!,4,FALSE)),\"\")","v":""},{"$f":"IFERROR((VLOOKUP(B155,#REF!,6,FALSE)),\"\")","v":""},{"$f":"IFERROR((VLOOKUP(B155,#REF!,8,FALSE)),\"\")","v":""},{"$f":"IFERROR((VLOOKUP(B155,#REF!,7,FALSE)),\"\")","v":""},null,"",""]
["",null,{"$f":"IFERROR((VLOOKUP(B156,#REF!,2,FALSE)),\"\")","v":""},{"$f":"IFERROR((VLOOKUP(B156,#REF!,3,FALSE)),\"\")","v":""},{"$f":"IFERROR((VLOOKUP(B156,#REF!,4,FALSE)),\"\")","v":""},{"$f":"IFERROR((VLOOKUP(B156,#REF!,6,FALSE)),\"\")","v":""},{"$f":"IFERROR((VLOOKUP(B156,#REF!,8,FALSE)),\"\")","v":""},{"$f":"IFERROR((VLOOKUP(B156,#REF!,7,FALSE)),\"\")","v":""},null,"",""]
["",null,{"$f":"IFERROR((VLOOKUP(B157,#REF!,2,FALSE)),\"\")","v":""},{"$f":"IFERROR((VLOOKUP(B157,#REF!,3,FALSE)),\"\")","v":""},{"$f":"IFERROR((VLOOKUP(B157,#REF!,4,FALSE)),\"\")","v":""},{"$f":"IFERROR((VLOOKUP(B157,#REF!,6,FALSE)),\"\")","v":""},{"$f":"IFERROR((VLOOKUP(B157,#REF!,8,FALSE)),\"\")","v":""},{"$f":"IFERROR((VLOOKUP(B157,#REF!,7,FALSE)),\"\")","v":""},null,"",""]
["",null,{"$f":"IFERROR((VLOOKUP(B158,#REF!,2,FALSE)),\"\")","v":""},{"$f":"IFERROR((VLOOKUP(B158,#REF!,3,FALSE)),\"\")","v":""},{"$f":"IFERROR((VLOOKUP(B158,#REF!,4,FALSE)),\"\")","v":""},{"$f":"IFERROR((VLOOKUP(B158,#REF!,6,FALSE)),\"\")","v":""},{"$f":"IFERROR((VLOOKUP(B158,#REF!,8,FALSE)),\"\")","v":""},{"$f":"IFERROR((VLOOKUP(B158,#REF!,7,FALSE)),\"\")","v":""},null,"",""]
["",null,{"$f":"IFERROR((VLOOKUP(B159,#REF!,2,FALSE)),\"\")","v":""},{"$f":"IFERROR((VLOOKUP(B159,#REF!,3,FALSE)),\"\")","v":""},{"$f":"IFERROR((VLOOKUP(B159,#REF!,4,FALSE)),\"\")","v":""},{"$f":"IFERROR((VLOOKUP(B159,#REF!,6,FALSE)),\"\")","v":""},{"$f":"IFERROR((VLOOKUP(B159,#REF!,8,FALSE)),\"\")","v":""},{"$f":"IFERROR((VLOOKUP(B159,#REF!,7,FALSE)),\"\")","v":""},null,"",""]
[]
["JUVENIS MASCULINOS"]
[]
["Pos","Dorsal ","Licença","Escalão","Nome","Género","Clube","Tempo Natação","Tempo Corrida","Tempo Final","Pontos"]
[{"$f":"IF(J164=\"\",\"\",RANK(J164,$J$164:$J$186,1))","v":""},null,{"$f":"IFERROR((VLOOKUP(B164,#REF!,2,FALSE)),\"\")","v":""},{"$f":"IFERROR((VLOOKUP(B164,#REF!,3,FALSE)),\"\")","v":""},{"$f":"IFERROR((VLOOKUP(B164,#REF!,4,FALSE)),\"\")","v":""},{"$f":"IFERROR((VLOOKUP(B164,#REF!,6,FALSE)),\"\")","v":""},{"$f":"IFERROR((VLOOKUP(B164,#REF!,8,FALSE)),\"\")","v":""},{"$f":"IFERROR((VLOOKUP(B164,#REF!,7,FALSE)),\"\")","v":""},null,{"$f":"IF(B164=\"\",\"\",H164+I164)","v":""},{"$f":"IF(B164>0,\"100\",\"\")","v":""}]
[{"$f":"IF(J165=\"\",\"\",RANK(J165,$J$164:$J$186,1))","v":""},null,{"$f":"IFERROR((VLOOKUP(B165,#REF!,2,FALSE)),\"\")","v":""},{"$f":"IFERROR((VLOOKUP(B165,#REF!,3,FALSE)),\"\")","v":""},{"$f":"IFERROR((VLOOKUP(B165,#REF!,4,FALSE)),\"\")","v":""},{"$f":"IFERROR((VLOOKUP(B165,#REF!,6,FALSE)),\"\")","v":""},{"$f":"IFERROR((VLOOKUP(B165,#REF!,8,FALSE)),\"\")","v":""},{"$f":"IFERROR((VLOOKUP(B165,#REF!,7,FALSE)),\"\")","v":""},null,{"$f":"IF(B165=\"\",\"\",H165+I165)","v":""},{"$f":"IF(B165>0,K164-1,\"\")","v":""}]
["",null,{"$f":"IFERROR((VLOOKUP(B166,#REF!,2,FALSE)),\"\")","v":""},{"$f":"IFERROR((VLOOKUP(B166,#REF!,3,FALSE)),\"\")","v":""},{"$f":"IFERROR((VLOOKUP(B166,#REF!,4,FALSE)),\"\")","v":""},{"$f":"IFERROR((VLOOKUP(B166,#REF!,6,FALSE)),\"\")","v":""},{"$f":"IFERROR((VLOOKUP(B166,#REF!,8,FALSE)),\"\")","v":""},{"$f":"IFERROR((VLOOKUP(B166,#REF!,7,FALSE)),\"\")","v":""},null,{"$f":"IF(B166=\"\",\"\",H166+I166)","v":""},{"$f":"IF(B166>0,K165-1,\"\")","v":""}]
["",null,{"$f":"IFERROR((VLOOKUP(B167,#REF!,2,FALSE)),\"\")","v":""},{"$f":"IFERROR((VLOOKUP(B167,#REF!,3,FALSE)),\"\")","v":""},{"$f":"IFERROR((VLOOKUP(B167,#REF!,4,FALSE)),\"\")","v":""},{"$f":"IFERROR((VLOOKUP(B167,#REF!,6,FALSE)),\"\")","v":""},{"$f":"IFERROR((VLOOKUP(B167,#REF!,8,FALSE)),\"\")","v":""},{"$f":"IFERROR((VLOOKUP(B167,#REF!,7,FALSE)),\"\")","v":""},null,"",""]
["",null,{"$f":"IFERROR((VLOOKUP(B168,#REF!,2,FALSE)),\"\")","v":""},{"$f":"IFERROR((VLOOKUP(B168,#REF!,3,FALSE)),\"\")","v":""},{"$f":"IFERROR((VLOOKUP(B168,#REF!,4,FALSE)),\"\")","v":""},{"$f":"IFERROR((VLOOKUP(B168,#REF!,6,FALSE)),\"\")","v":""},{"$f":"IFERROR((VLOOKUP(B168,#REF!,8,FALSE)),\"\")","v":""},{"$f":"IFERROR((VLOOKUP(B168,#REF!,7,FALSE)),\"\")","v":""},null,"",""]
["",null,{"$f":"IFERROR((VLOOKUP(B169,#REF!,2,FALSE)),\"\")","v":""},{"$f":"IFERROR((VLOOKUP(B169,#REF!,3,FALSE)),\"\")","v":""},{"$f":"IFERROR((VLOOKUP(B169,#REF!,4,FALSE)),\"\")","v":""},{"$f":"IFERROR((VLOOKUP(B169,#REF!,6,FALSE)),\"\")","v":""},{"$f":"IFERROR((VLOOKUP(B169,#REF!,8,FALSE)),\"\")","v":""},{"$f":"IFERROR((VLOOKUP(B169,#REF!,7,FALSE)),\"\")","v":""},null,"",""]
["",null,{"$f":"IFERROR((VLOOKUP(B170,#REF!,2,FALSE)),\"\")","v":""},{"$f":"IFERROR((VLOOKUP(B170,#REF!,3,FALSE)),\"\")","v":""},{"$f":"IFERROR((VLOOKUP(B170,#REF!,4,FALSE)),\"\")","v":""},{"$f":"IFERROR((VLOOKUP(B170,#REF!,6,FALSE)),\"\")","v":""},{"$f":"IFERROR((VLOOKUP(B170,#REF!,8,FALSE)),\"\")","v":""},{"$f":"IFERROR((VLOOKUP(B170,#REF!,7,FALSE)),\"\")","v":""},null,"",""]
["",null,{"$f":"IFERROR((VLOOKUP(B171,#REF!,2,FALSE)),\"\")","v":""},{"$f":"IFERROR((VLOOKUP(B171,#REF!,3,FALSE)),\"\")","v":""},{"$f":"IFERROR((VLOOKUP(B171,#REF!,4,FALSE)),\"\")","v":""},{"$f":"IFERROR((VLOOKUP(B171,#REF!,6,FALSE)),\"\")","v":""},{"$f":"IFERROR((VLOOKUP(B171,#REF!,8,FALSE)),\"\")","v":""},{"$f":"IFERROR((VLOOKUP(B171,#REF!,7,FALSE)),\"\")","v":""},null,"",""]
["",null,{"$f":"IFERROR((VLOOKUP(B172,#REF!,2,FALSE)),\"\")","v":""},{"$f":"IFERROR((VLOOKUP(B172,#REF!,3,FALSE)),\"\")","v":""},{"$f":"IFERROR((VLOOKUP(B172,#REF!,4,FALSE)),\"\")","v":""},{"$f":"IFERROR((VLOOKUP(B172,#REF!,6,FALSE)),\"\")","v":""},{"$f":"IFERROR((VLOOKUP(B172,#REF!,8,FALSE)),\"\")","v":""},{"$f":"IFERROR((VLOOKUP(B172,#REF!,7,FALSE)),\"\")","v":""},null,"",""]
["",null,{"$f":"IFERROR((VLOOKUP(B173,#REF!,2,FALSE)),\"\")","v":""},{"$f":"IFERROR((VLOOKUP(B173,#REF!,3,FALSE)),\"\")","v":""},{"$f":"IFERROR((VLOOKUP(B173,#REF!,4,FALSE)),\"\")","v":""},{"$f":"IFERROR((VLOOKUP(B173,#REF!,6,FALSE)),\"\")","v":""},{"$f":"IFERROR((VLOOKUP(B173,#REF!,8,FALSE)),\"\")","v":""},{"$f":"IFERROR((VLOOKUP(B173,#REF!,7,FALSE)),\"\")","v":""},null,"",""]
["",null,{"$f":"IFERROR((VLOOKUP(B174,#REF!,2,FALSE)),\"\")","v":""},{"$f":"IFERROR((VLOOKUP(B174,#REF!,3,FALSE)),\"\")","v":""},{"$f":"IFERROR((VLOOKUP(B174,#REF!,4,FALSE)),\"\")","v":""},{"$f":"IFERROR((VLOOKUP(B174,#REF!,6,FALSE)),\"\")","v":""},{"$f":"IFERROR((VLOOKUP(B174,#REF!,8,FALSE)),\"\")","v":""},{"$f":"IFERROR((VLOOKUP(B174,#REF!,7,FALSE)),\"\")","v":""},null,"",""]
["",null,{"$f":"IFERROR((VLOOKUP(B175,#REF!,2,FALSE)),\"\")","v":""},{"$f":"IFERROR((VLOOKUP(B175,#REF!,3,FALSE)),\"\")","v":""},{"$f":"IFERROR((VLOOKUP(B175,#REF!,4,FALSE)),\"\")","v":""},{"$f":"IFERROR((VLOOKUP(B175,#REF!,6,FALSE)),\"\")","v":""},{"$f":"IFERROR((VLOOKUP(B175,#REF!,8,FALSE)),\"\")","v":""},{"$f":"IFERROR((VLOOKUP(B175,#REF!,7,FALSE)),\"\")","v":""},null,"",""]
["",null,{"$f":"IFERROR((VLOOKUP(B176,#REF!,2,FALSE)),\"\")","v":""},{"$f":"IFERROR((VLOOKUP(B176,#REF!,3,FALSE)),\"\")","v":""},{"$f":"IFERROR((VLOOKUP(B176,#REF!,4,FALSE)),\"\")","v":""},{"$f":"IFERROR((VLOOKUP(B176,#REF!,6,FALSE)),\"\")","v":""},{"$f":"IFERROR((VLOOKUP(B176,#REF!,8,FALSE)),\"\")","v":""},{"$f":"IFERROR((VLOOKUP(B176,#REF!,7,FALSE)),\"\")","v":""},null,"",""]
["",null,{"$f":"IFERROR((VLOOKUP(B177,#REF!,2,FALSE)),\"\")","v":""},{"$f":"IFERROR((VLOOKUP(B177,#REF!,3,FALSE)),\"\")","v":""},{"$f":"IFERROR((VLOOKUP(B177,#REF!,4,FALSE)),\"\")","v":""},{"$f":"IFERROR((VLOOKUP(B177,#REF!,6,FALSE)),\"\")","v":""},{"$f":"IFERROR((VLOOKUP(B177,#REF!,8,FALSE)),\"\")","v":""},{"$f":"IFERROR((VLOOKUP(B177,#REF!,7,FALSE)),\"\")","v":""},null,"",""]
["",null,{"$f":"IFERROR((VLOOKUP(B178,#REF!,2,FALSE)),\"\")","v":""},{"$f":"IFERROR((VLOOKUP(B178,#REF!,3,FALSE)),\"\")","v":""},{"$f":"IFERROR((VLOOKUP(B178,#REF!,4,FALSE)),\"\")","v":""},{"$f":"IFERROR((VLOOKUP(B178,#REF!,6,FALSE)),\"\")","v":""},{"$f":"IFERROR((VLOOKUP(B178,#REF!,8,FALSE)),\"\")","v":""},{"$f":"IFERROR((VLOOKUP(B178,#REF!,7,FALSE)),\"\")","v":""},null,"",""]
["",null,{"$f":"IFERROR((VLOOKUP(B179,#REF!,2,FALSE)),\"\")","v":""},{"$f":"IFERROR((VLOOKUP(B179,#REF!,3,FALSE)),\"\")","v":""},{"$f":"IFERROR((VLOOKUP(B179,#REF!,4,FALSE)),\"\")","v":""},{"$f":"IFERROR((VLOOKUP(B179,#REF!,6,FALSE)),\"\")","v":""},{"$f":"IFERROR((VLOOKUP(B179,#REF!,8,FALSE)),\"\")","v":""},{"$f":"IFERROR((VLOOKUP(B179,#REF!,7,FALSE)),\"\")","v":""},null,"",""]
["",null,{"$f":"IFERROR((VLOOKUP(B180,#REF!,2,FALSE)),\"\")","v":""},{"$f":"IFERROR((VLOOKUP(B180,#REF!,3,FALSE)),\"\")","v":""},{"$f":"IFERROR((VLOOKUP(B180,#REF!,4,FALSE)),\"\")","v":""},{"$f":"IFERROR((VLOOKUP(B180,#REF!,6,FALSE)),\"\")","v":""},{"$f":"IFERROR((VLOOKUP(B180,#REF!,8,FALSE)),\"\")","v":""},{"$f":"IFERROR((VLOOKUP(B180,#REF!,7,FALSE)),\"\")","v":""},null,"",""]
["",null,{"$f":"IFERROR((VLOOKUP(B181,#REF!,2,FALSE)),\"\")","v":""},{"$f":"IFERROR((VLOOKUP(B181,#REF!,3,FALSE)),\"\")","v":""},{"$f":"IFERROR((VLOOKUP(B181,#REF!,4,FALSE)),\"\")","v":""},{"$f":"IFERROR((VLOOKUP(B181,#REF!,6,FALSE)),\"\")","v":""},{"$f":"IFERROR((VLOOKUP(B181,#REF!,8,FALSE)),\"\")","v":""},{"$f":"IFERROR((VLOOKUP(B181,#REF!,7,FALSE)),\"\")","v":""},null,"",""]
["",null,{"$f":"IFERROR((VLOOKUP(B182,#REF!,2,FALSE)),\"\")","v":""},{"$f":"IFERROR((VLOOKUP(B182,#REF!,3,FALSE)),\"\")","v":""},{"$f":"IFERROR((VLOOKUP(B182,#REF!,4,FALSE)),\"\")","v":""},{"$f":"IFERROR((VLOOKUP(B182,#REF!,6,FALSE)),\"\")","v":""},{"$f":"IFERROR((VLOOKUP(B182,#REF!,8,FALSE)),\"\")","v":""},{"$f":"IFERROR((VLOOKUP(B182,#REF!,7,FALSE)),\"\")","v":""},null,"",""]
["",null,{"$f":"IFERROR((VLOOKUP(B183,#REF!,2,FALSE)),\"\")","v":""},{"$f":"IFERROR((VLOOKUP(B183,#REF!,3,FALSE)),\"\")","v":""},{"$f":"IFERROR((VLOOKUP(B183,#REF!,4,FALSE)),\"\")","v":""},{"$f":"IFERROR((VLOOKUP(B183,#REF!,6,FALSE)),\"\")","v":""},{"$f":"IFERROR((VLOOKUP(B183,#REF!,8,FALSE)),\"\")","v":""},{"$f":"IFERROR((VLOOKUP(B183,#REF!,7,FALSE)),\"\")","v":""},null,"",""]
["",null,{"$f":"IFERROR((VLOOKUP(B184,#REF!,2,FALSE)),\"\")","v":""},{"$f":"IFERROR((VLOOKUP(B184,#REF!,3,FALSE)),\"\")","v":""},{"$f":"IFERROR((VLOOKUP(B184,#REF!,4,FALSE)),\"\")","v":""},{"$f":"IFERROR((VLOOKUP(B184,#REF!,6,FALSE)),\"\")","v":""},{"$f":"IFERROR((VLOOKUP(B184,#REF!,8,FALSE)),\"\")","v":""},{"$f":"IFERROR((VLOOKUP(B184,#REF!,7,FALSE)),\"\")","v":""},null,"",""]
["",null,{"$f":"IFERROR((VLOOKUP(B185,#REF!,2,FALSE)),\"\")","v":""},{"$f":"IFERROR((VLOOKUP(B185,#REF!,3,FALSE)),\"\")","v":""},{"$f":"IFERROR((VLOOKUP(B185,#REF!,4,FALSE)),\"\")","v":""},{"$f":"IFERROR((VLOOKUP(B185,#REF!,6,FALSE)),\"\")","v":""},{"$f":"IFERROR((VLOOKUP(B185,#REF!,8,FALSE)),\"\")","v":""},{"$f":"IFERROR((VLOOKUP(B185,#REF!,7,FALSE)),\"\")","v":""},null,"",""]
["",null,{"$f":"IFERROR((VLOOKUP(B186,#REF!,2,FALSE)),\"\")","v":""},{"$f":"IFERROR((VLOOKUP(B186,#REF!,3,FALSE)),\"\")","v":""},{"$f":"IFERROR((VLOOKUP(B186,#REF!,4,FALSE)),\"\")","v":""},{"$f":"IFERROR((VLOOKUP(B186,#REF!,6,FALSE)),\"\")","v":""},{"$f":"IFERROR((VLOOKUP(B186,#REF!,8,FALSE)),\"\")","v":""},{"$f":"IFERROR((VLOOKUP(B186,#REF!,7,FALSE)),\"\")","v":""},null,"",""]
[]
["JUVENIS FEMININOS"]
[]
["Pos","Dorsal ","Licença","Escalão","Nome","Género","Clube","Tempo Natação","Tempo Corrida","Tempo Final","Pontos"]
[{"$f":"IF(J191=\"\",\"\",RANK(J191,$J$191:$J$210,1))","v":""},null,{"$f":"IFERROR((VLOOKUP(B191,#REF!,2,FALSE)),\"\")","v":""},{"$f":"IFERROR((VLOOKUP(B191,#REF!,3,FALSE)),\"\")","v":""},{"$f":"IFERROR((VLOOKUP(B191,#REF!,4,FALSE)),\"\")","v":""},{"$f":"IFERROR((VLOOKUP(B191,#REF!,6,FALSE)),\"\")","v":""},{"$f":"IFERROR((VLOOKUP(B191,#REF!,8,FALSE)),\"\")","v":""},{"$f":"IFERROR((VLOOKUP(B191,#REF!,7,FALSE)),\"\")","v":""},null,{"$f":"IF(B191=\"\",\"\",H191+I191)","v":""},{"$f":"IF(B191>0,\"100\",\"\")","v":""}]
[{"$f":"IF(J192=\"\",\"\",RANK(J192,$J$191:$J$210,1))","v":""},null,{"$f":"IFERROR((VLOOKUP(B192,#REF!,2,FALSE)),\"\")","v":""},{"$f":"IFERROR((VLOOKUP(B192,#REF!,3,FALSE)),\"\")","v":""},{"$f":"IFERROR((VLOOKUP(B192,#REF!,4,FALSE)),\"\")","v":""},{"$f":"IFERROR((VLOOKUP(B192,#REF!,6,FALSE)),\"\")","v":""},{"$f":"IFERROR((VLOOKUP(B192,#REF!,8,FALSE)),\"\")","v":""},{"$f":"IFERROR((VLOOKUP(B192,#REF!,7,FALSE)),\"\")","v":""},null,{"$f":"IF(B192=\"\",\"\",H192+I192)","v":""},{"$f":"IF(B192>0,K191-1,\"\")","v":""}]
["",null,{"$f":"IFERROR((VLOOKUP(B193,#REF!,2,FALSE)),\"\")","v":""},{"$f":"IFERROR((VLOOKUP(B193,#REF!,3,FALSE)),\"\")","v":""},{"$f":"IFERROR((VLOOKUP(B193,#REF!,4,FALSE)),\"\")","v":""},{"$f":"IFERROR((VLOOKUP(B193,#REF!,6,FALSE)),\"\")","v":""},{"$f":"IFERROR((VLOOKUP(B193,#REF!,8,FALSE)),\"\")","v":""},{"$f":"IFERROR((VLOOKUP(B193,#REF!,7,FALSE)),\"\")","v":""},null,{"$f":"IF(B193=\"\",\"\",H193+I193)","v":""},{"$f":"IF(B193>0,K192-1,\"\")","v":""}]
["",null,{"$f":"IFERROR((VLOOKUP(B194,#REF!,2,FALSE)),\"\")","v":""},{"$f":"IFERROR((VLOOKUP(B194,#REF!,3,FALSE)),\"\")","v":""},{"$f":"IFERROR((VLOOKUP(B194,#REF!,4,FALSE)),\"\")","v":""},{"$f":"IFERROR((VLOOKUP(B194,#REF!,6,FALSE)),\"\")","v":""},{"$f":"IFERROR((VLOOKUP(B194,#REF!,8,FALSE)),\"\")","v":""},{"$f":"IFERROR((VLOOKUP(B194,#REF!,7,FALSE)),\"\")","v":""},null,"",""]
["",null,{"$f":"IFERROR((VLOOKUP(B195,#REF!,2,FALSE)),\"\")","v":""},{"$f":"IFERROR((VLOOKUP(B195,#REF!,3,FALSE)),\"\")","v":""},{"$f":"IFERROR((VLOOKUP(B195,#REF!,4,FALSE)),\"\")","v":""},{"$f":"IFERROR((VLOOKUP(B195,#REF!,6,FALSE)),\"\")","v":""},{"$f":"IFERROR((VLOOKUP(B195,#REF!,8,FALSE)),\"\")","v":""},{"$f":"IFERROR((VLOOKUP(B195,#REF!,7,FALSE)),\"\")","v":""},null,"",""]
["",null,{"$f":"IFERROR((VLOOKUP(B196,#REF!,2,FALSE)),\"\")","v":""},{"$f":"IFERROR((VLOOKUP(B196,#REF!,3,FALSE)),\"\")","v":""},{"$f":"IFERROR((VLOOKUP(B196,#REF!,4,FALSE)),\"\")","v":""},{"$f":"IFERROR((VLOOKUP(B196,#REF!,6,FALSE)),\"\")","v":""},{"$f":"IFERROR((VLOOKUP(B196,#REF!,8,FALSE)),\"\")","v":""},{"$f":"IFERROR((VLOOKUP(B196,#REF!,7,FALSE)),\"\")","v":""},null,"",""]
["",null,{"$f":"IFERROR((VLOOKUP(B197,#REF!,2,FALSE)),\"\")","v":""},{"$f":"IFERROR((VLOOKUP(B197,#REF!,3,FALSE)),\"\")","v":""},{"$f":"IFERROR((VLOOKUP(B197,#REF!,4,FALSE)),\"\")","v":""},{"$f":"IFERROR((VLOOKUP(B197,#REF!,6,FALSE)),\"\")","v":""},{"$f":"IFERROR((VLOOKUP(B197,#REF!,8,FALSE)),\"\")","v":""},{"$f":"IFERROR((VLOOKUP(B197,#REF!,7,FALSE)),\"\")","v":""},null,"",""]
["",null,{"$f":"IFERROR((VLOOKUP(B198,#REF!,2,FALSE)),\"\")","v":""},{"$f":"IFERROR((VLOOKUP(B198,#REF!,3,FALSE)),\"\")","v":""},{"$f":"IFERROR((VLOOKUP(B198,#REF!,4,FALSE)),\"\")","v":""},{"$f":"IFERROR((VLOOKUP(B198,#REF!,6,FALSE)),\"\")","v":""},{"$f":"IFERROR((VLOOKUP(B198,#REF!,9,FALSE)),\"\")","v":""},{"$f":"IFERROR((VLOOKUP(B198,#REF!,7,FALSE)),\"\")","v":""},null,"",""]
["",null,{"$f":"IFERROR((VLOOKUP(B199,#REF!,2,FALSE)),\"\")","v":""},{"$f":"IFERROR((VLOOKUP(B199,#REF!,3,FALSE)),\"\")","v":""},{"$f":"IFERROR((VLOOKUP(B199,#REF!,4,FALSE)),\"\")","v":""},{"$f":"IFERROR((VLOOKUP(B199,#REF!,6,FALSE)),\"\")","v":""},{"$f":"IFERROR((VLOOKUP(B199,#REF!,9,FALSE)),\"\")","v":""},{"$f":"IFERROR((VLOOKUP(B199,#REF!,7,FALSE)),\"\")","v":""},null,"",""]
["",null,{"$f":"IFERROR((VLOOKUP(B200,#REF!,2,FALSE)),\"\")","v":""},{"$f":"IFERROR((VLOOKUP(B200,#REF!,3,FALSE)),\"\")","v":""},{"$f":"IFERROR((VLOOKUP(B200,#REF!,4,FALSE)),\"\")","v":""},{"$f":"IFERROR((VLOOKUP(B200,#REF!,6,FALSE)),\"\")","v":""},{"$f":"IFERROR((VLOOKUP(B200,#REF!,9,FALSE)),\"\")","v":""},{"$f":"IFERROR((VLOOKUP(B200,#REF!,7,FALSE)),\"\")","v":""},null,"",""]
["",null,{"$f":"IFERROR((VLOOKUP(B201,#REF!,2,FALSE)),\"\")","v":""},{"$f":"IFERROR((VLOOKUP(B201,#REF!,3,FALSE)),\"\")","v":""},{"$f":"IFERROR((VLOOKUP(B201,#REF!,4,FALSE)),\"\")","v":""},{"$f":"IFERROR((VLOOKUP(B201,#REF!,6,FALSE)),\"\")","v":""},{"$f":"IFERROR((VLOOKUP(B201,#REF!,9,FALSE)),\"\")","v":""},{"$f":"IFERROR((VLOOKUP(B201,#REF!,7,FALSE)),\"\")","v":""},null,"",""]
["",null,{"$f":"IFERROR((VLOOKUP(B202,#REF!,2,FALSE)),\"\")","v":""},{"$f":"IFERROR((VLOOKUP(B202,#REF!,3,FALSE)),\"\")","v":""},{"$f":"IFERROR((VLOOKUP(B202,#REF!,4,FALSE)),\"\")","v":""},{"$f":"IFERROR((VLOOKUP(B202,#REF!,6,FALSE)),\"\")","v":""},{"$f":"IFERROR((VLOOKUP(B202,#REF!,9,FALSE)),\"\")","v":""},{"$f":"IFERROR((VLOOKUP(B202,#REF!,7,FALSE)),\"\")","v":""},null,"",""]
["",null,{"$f":"IFERROR((VLOOKUP(B203,#REF!,2,FALSE)),\"\")","v":""},{"$f":"IFERROR((VLOOKUP(B203,#REF!,3,FALSE)),\"\")","v":""},{"$f":"IFERROR((VLOOKUP(B203,#REF!,4,FALSE)),\"\")","v":""},{"$f":"IFERROR((VLOOKUP(B203,#REF!,6,FALSE)),\"\")","v":""},{"$f":"IFERROR((VLOOKUP(B203,#REF!,9,FALSE)),\"\")","v":""},{"$f":"IFERROR((VLOOKUP(B203,#REF!,7,FALSE)),\"\")","v":""},null,"",""]
["",null,{"$f":"IFERROR((VLOOKUP(B204,#REF!,2,FALSE)),\"\")","v":""},{"$f":"IFERROR((VLOOKUP(B204,#REF!,3,FALSE)),\"\")","v":""},{"$f":"IFERROR((VLOOKUP(B204,#REF!,4,FALSE)),\"\")","v":""},{"$f":"IFERROR((VLOOKUP(B204,#REF!,6,FALSE)),\"\")","v":""},{"$f":"IFERROR((VLOOKUP(B204,#REF!,9,FALSE)),\"\")","v":""},{"$f":"IFERROR((VLOOKUP(B204,#REF!,7,FALSE)),\"\")","v":""},null,"",""]
["",null,{"$f":"IFERROR((VLOOKUP(B205,#REF!,2,FALSE)),\"\")","v":""},{"$f":"IFERROR((VLOOKUP(B205,#REF!,3,FALSE)),\"\")","v":""},{"$f":"IFERROR((VLOOKUP(B205,#REF!,4,FALSE)),\"\")","v":""},{"$f":"IFERROR((VLOOKUP(B205,#REF!,6,FALSE)),\"\")","v":""},{"$f":"IFERROR((VLOOKUP(B205,#REF!,9,FALSE)),\"\")","v":""},{"$f":"IFERROR((VLOOKUP(B205,#REF!,7,FALSE)),\"\")","v":""},null,"",""]
["",null,{"$f":"IFERROR((VLOOKUP(B206,#REF!,2,FALSE)),\"\")","v":""},{"$f":"IFERROR((VLOOKUP(B206,#REF!,3,FALSE)),\"\")","v":""},{"$f":"IFERROR((VLOOKUP(B206,#REF!,4,FALSE)),\"\")","v":""},{"$f":"IFERROR((VLOOKUP(B206,#REF!,6,FALSE)),\"\")","v":""},{"$f":"IFERROR((VLOOKUP(B206,#REF!,9,FALSE)),\"\")","v":""},{"$f":"IFERROR((VLOOKUP(B206,#REF!,7,FALSE)),\"\")","v":""},null,"",""]
["",null,{"$f":"IFERROR((VLOOKUP(B207,#REF!,2,FALSE)),\"\")","v":""},{"$f":"IFERROR((VLOOKUP(B207,#REF!,3,FALSE)),\"\")","v":""},{"$f":"IFERROR((VLOOKUP(B207,#REF!,4,FALSE)),\"\")","v":""},{"$f":"IFERROR((VLOOKUP(B207,#REF!,6,FALSE)),\"\")","v":""},{"$f":"IFERROR((VLOOKUP(B207,#REF!,9,FALSE)),\"\")","v":""},{"$f":"IFERROR((VLOOKUP(B207,#REF!,7,FALSE)),\"\")","v":""},null,"",""]
["",null,{"$f":"IFERROR((VLOOKUP(B208,#REF!,2,FALSE)),\"\")","v":""},{"$f":"IFERROR((VLOOKUP(B208,#REF!,3,FALSE)),\"\")","v":""},{"$f":"IFERROR((VLOOKUP(B208,#REF!,4,FALSE)),\"\")","v":""},{"$f":"IFERROR((VLOOKUP(B208,#REF!,6,FALSE)),\"\")","v":""},{"$f":"IFERROR((VLOOKUP(B208,#REF!,9,FALSE)),\"\")","v":""},{"$f":"IFERROR((VLOOKUP(B208,#REF!,7,FALSE)),\"\")","v":""},null,"",""]
["",null,{"$f":"IFERROR((VLOOKUP(B209,#REF!,2,FALSE)),\"\")","v":""},{"$f":"IFERROR((VLOOKUP(B209,#REF!,3,FALSE)),\"\")","v":""},{"$f":"IFERROR((VLOOKUP(B209,#REF!,4,FALSE)),\"\")","v":""},{"$f":"IFERROR((VLOOKUP(B209,#REF!,6,FALSE)),\"\")","v":""},{"$f":"IFERROR((VLOOKUP(B209,#REF!,9,FALSE)),\"\")","v":""},{"$f":"IFERROR((VLOOKUP(B209,#REF!,7,FALSE)),\"\")","v":""},null,"",""]
["",null,{"$f":"IFERROR((VLOOKUP(B210,#REF!,2,FALSE)),\"\")","v":""},{"$f":"IFERROR((VLOOKUP(B210,#REF!,3,FALSE)),\"\")","v":""},{"$f":"IFERROR((VLOOKUP(B210,#REF!,4,FALSE)),\"\")","v":""},{"$f":"IFERROR((VLOOKUP(B210,#REF!,6,FALSE)),\"\")","v":""},{"$f":"IFERROR((VLOOKUP(B210,#REF!,9,FALSE)),\"\")","v":""},{"$f":"IFERROR((VLOOKUP(B210,#REF!,7,FALSE)),\"\")","v":""},null,"",""]
[]
["ESTAFETAS BEN/INF"]
[]
["Pos","Escalão \nGénero",null,"Nome - Natação",null,"Escalão - Género",null,"Nome - Corrida",null,null,"Tempo Final"]
[1,{"$f":"IFERROR(VLOOKUP(A215,#REF!,13,FALSE),\"\")","v":""},null,null,null,null,null,null,null,null,{"$f":"IFERROR((VLOOKUP(A215,#REF!,10,FALSE)),\"\")","v":""}]
[2,{"$f":"IFERROR(VLOOKUP(A216,#REF!,13,FALSE),\"\")","v":""},null,null,null,null,null,null,null,null,{"$f":"IFERROR((VLOOKUP(A216,#REF!,10,FALSE)),\"\")","v":""}]
[3,{"$f":"IFERROR(VLOOKUP(A217,#REF!,13,FALSE),\"\")","v":""},null,null,null,null,null,null,null,null,{"$f":"IFERROR((VLOOKUP(A217,#REF!,10,FALSE)),\"\")","v":""}]
[4,{"$f":"IFERROR(VLOOKUP(A218,#REF!,13,FALSE),\"\")","v":""},null,null,null,null,null,null,null,null,{"$f":"IFERROR((VLOOKUP(A218,#REF!,10,FALSE)),\"\")","v":""}]
[5,{"$f":"IFERROR(VLOOKUP(A219,#REF!,13,FALSE),\"\")","v":""},null,null,null,null,null,null,null,null,{"$f":"IFERROR((VLOOKUP(A219,#REF!,10,FALSE)),\"\")","v":""}]
[6,{"$f":"IFERROR(VLOOKUP(A220,#REF!,13,FALSE),\"\")","v":""},null,null,null,null,null,null,null,null,{"$f":"IFERROR((VLOOKUP(A220,#REF!,10,FALSE)),\"\")","v":""}]
[7,{"$f":"IFERROR(VLOOKUP(A221,#REF!,13,FALSE),\"\")","v":""},null,null,null,null,null,null,null,null,{"$f":"IFERROR((VLOOKUP(A221,#REF!,10,FALSE)),\"\")","v":""}]
[8,{"$f":"IFERROR(VLOOKUP(A222,#REF!,13,FALSE),\"\")","v":""},null,null,null,null,null,null,null,null,{"$f":"IFERROR((VLOOKUP(A222,#REF!,10,FALSE)),\"\")","v":""}]
[9,{"$f":"IFERROR(VLOOKUP(A223,#REF!,13,FALSE),\"\")","v":""},null,null,null,null,null,null,null,null,{"$f":"IFERROR((VLOOKUP(A223,#REF!,10,FALSE)),\"\")","v":""}]
[10,{"$f":"IFERROR(VLOOKUP(A224,#REF!,13,FALSE),\"\")","v":""},null,null,null,null,null,null,null,null,{"$f":"IFERROR((VLOOKUP(A224,#REF!,10,FALSE)),\"\")","v":""}]
[11,{"$f":"IFERROR(VLOOKUP(A225,#REF!,13,FALSE),\"\")","v":""},null,null,null,null,null,null,null,null,{"$f":"IFERROR((VLOOKUP(A225,#REF!,10,FALSE)),\"\")","v":""}]
[]
["ESTAFETAS INI/JUV"]
[]
["Pos","Escalão \nGénero",null,"Nome - Natação",null,"Escalão - Género",null,"Nome - Corrida",null,null,"Tempo Final"]
[1,{"$f":"IFERROR(VLOOKUP(A230,#REF!,13,FALSE),\"\")","v":""},null,null,null,null,null,null,null,null,{"$f":"IFERROR((VLOOKUP(A230,#REF!,10,FALSE)),\"\")","v":""}]
[2,{"$f":"IFERROR(VLOOKUP(A231,#REF!,13,FALSE),\"\")","v":""},null,null,null,null,null,null,null,null,{"$f":"IFERROR((VLOOKUP(A231,#REF!,10,FALSE)),\"\")","v":""}]
[3,{"$f":"IFERROR(VLOOKUP(A232,#REF!,13,FALSE),\"\")","v":""},null,null,null,null,null,null,null,null,{"$f":"IFERROR((VLOOKUP(A232,#REF!,10,FALSE)),\"\")","v":""}]
[4,{"$f":"IFERROR(VLOOKUP(A233,#REF!,13,FALSE),\"\")","v":""},null,null,null,null,null,null,null,null,{"$f":"IFERROR((VLOOKUP(A233,#REF!,10,FALSE)),\"\")","v":""}]
[5,{"$f":"IFERROR(VLOOKUP(A234,#REF!,13,FALSE),\"\")","v":""},null,null,null,null,null,null,null,null,{"$f":"IFERROR((VLOOKUP(A234,#REF!,10,FALSE)),\"\")","v":""}]
[6,{"$f":"IFERROR(VLOOKUP(A235,#REF!,13,FALSE),\"\")","v":""},null,null,null,null,null,null,null,null,{"$f":"IFERROR((VLOOKUP(A235,#REF!,10,FALSE)),\"\")","v":""}]
[7,{"$f":"IFERROR(VLOOKUP(A236,#REF!,13,FALSE),\"\")","v":""},null,null,null,null,null,null,null,null,{"$f":"IFERROR((VLOOKUP(A236,#REF!,10,FALSE)),\"\")","v":""}]
[8,{"$f":"IFERROR(VLOOKUP(A237,#REF!,13,FALSE),\"\")","v":""},null,null,null,null,null,null,null,null,{"$f":"IFERROR((VLOOKUP(A237,#REF!,10,FALSE)),\"\")","v":""}]
[9,{"$f":"IFERROR(VLOOKUP(A238,#REF!,13,FALSE),\"\")","v":""},null,null,null,null,null,null,null,null,{"$f":"IFERROR((VLOOKUP(A238,#REF!,10,FALSE)),\"\")","v":""}]
[10,{"$f":"IFERROR(VLOOKUP(A239,#REF!,13,FALSE),\"\")","v":""},null,null,null,null,null,null,null,null,{"$f":"IFERROR((VLOOKUP(A239,#REF!,10,FALSE)),\"\")","v":""}]
[11,{"$f":"IFERROR(VLOOKUP(A240,#REF!,13,FALSE),\"\")","v":""},null,null,null,null,null,null,null,null,{"$f":"IFERROR((VLOOKUP(A240,#REF!,10,FALSE)),\"\")","v":""}]

{"sheet":"FolhaRegistoNatação","index":2,"n_rows":32,"n_cols":20,"rows_kept":32,"cut":false,"hidden":true,"merged":[[0,0,0,17],[1,0,1,17]]}
["I AQUATLO DO LXTRIATHLON - CIRCUITO JOVEM CENTRO LITORAL - 1ª ETAPA"]
["11 DE FEVEREIRO DE 2018"]
[]
[null,null,null,null,null,null,null,null,"Nº de Pista:"]
[]
[null,null,null,null,null,"Nº de Serie:",1,null,null,null,null,null,"Nome do Arbrito:"]
["BEN.","M","BEN.","F","INF","M","INF","F","INI","M","INI","F","JUV","M","JUV","F","EST","BEN/INF","EST","INI/JUV"]
["Dorsal ","Tempo Natação","Dorsal ","Tempo Natação","Dorsal ","Tempo Natação","Dorsal ","Tempo Natação","Dorsal ","Tempo Natação","Dorsal ","Tempo Natação","Dorsal ","Tempo Natação","Dorsal ","Tempo Natação","Dorsal ","Tempo Natação","Dorsal ","Tempo Natação"]
[]
[]
[null,null,null,null,null,"Nº de Serie:",2]
["BEN.","M","BEN.","F","INF","M","INF","F","INI","M","INI","F","JUV","M","JUV","M","EST","BEN/INF","EST","INI/JUV"]
["Dorsal ","Tempo Natação","Dorsal ","Tempo Natação","Dorsal ","Tempo Natação","Dorsal ","Tempo Natação","Dorsal ","Tempo Natação","Dorsal ","Tempo Natação","Dorsal ","Tempo Natação","Dorsal ","Tempo Natação","Dorsal ","Tempo Natação","Dorsal ","Tempo Natação"]
[]
[]
[null,null,null,null,null,"Nº de Serie:",3]
["BEN.","M","BEN.","F","INF","M","INF","F","INI","M","INI","F","JUV","M","JUV","M","EST","BEN/INF","EST","INI/JUV"]
["Dorsal ","Tempo Natação","Dorsal ","Tempo Natação","Dorsal ","Tempo Natação","Dorsal ","Tempo Natação","Dorsal ","Tempo Natação","Dorsal ","Tempo Natação","Dorsal ","Tempo Natação","Dorsal ","Tempo Natação","Dorsal ","Tempo Natação","Dorsal ","Tempo Natação"]
[]
[]
[null,null,null,null,null,"Nº de Serie:",4]
["BEN.","M","BEN.","F","INF","M","INF","F","INI","M","INI","F","JUV","M","JUV","M","EST","BEN/INF","EST","INI/JUV"]
["Dorsal ","Tempo Natação","Dorsal ","Tempo Natação","Dorsal ","Tempo Natação","Dorsal ","Tempo Natação","Dorsal ","Tempo Natação","Dorsal ","Tempo Natação","Dorsal ","Tempo Natação","Dorsal ","Tempo Natação","Dorsal ","Tempo Natação","Dorsal ","Tempo Natação"]
[]
[]
[null,null,null,null,null,"Nº de Serie:",5]
["BEN.","M","BEN.","F","INF","M","INF","F","INI","M","INI","F","JUV","M","JUV","M","EST","BEN/INF","EST","INI/JUV"]
["Dorsal ","Tempo Natação","Dorsal ","Tempo Natação","Dorsal ","Tempo Natação","Dorsal ","Tempo Natação","Dorsal ","Tempo Natação","Dorsal ","Tempo Natação","Dorsal ","Tempo Natação","Dorsal ","Tempo Natação","Dorsal ","Tempo Natação","Dorsal ","Tempo Natação"]
[]
[]
[]
[null,"Obs.:"]